{"text_format":"1","workbook":"xlsx","n_sheets":24,"sheets":["RESET","Regular","Extra","Posters","COURSES","Remarks","R1","P1","P2","P3","R2","P4","P5","P6","R3","P7","P8","P9","R4","P10","P11","P12","Ignore1","Ignore2"],"not_rendered":{"charts":0,"images":8,"macros":1,"external_links":0,"defined_names":1,"comments":0,"pivot_tables":0},"unopened":[],"bounds":{"document_bytes":16777216,"sheet_cells":100000,"rows_first":2000,"rows_last":500,"rows_between":2000,"halvings":0,"cell_chars":16384,"cell_head_chars":4096},"cells_cut":0,"cells_raw":0,"read":"whole","date_system":"1900"}

{"sheet":"RESET","index":0,"n_rows":19,"n_cols":14,"rows_kept":19,"cut":false,"hidden":false,"merged":[[3,2,3,13],[4,2,4,13],[8,7,9,8],[2,1,2,14],[14,2,14,5],[13,2,13,5],[11,2,11,5],[18,2,18,4],[12,2,12,5],[8,10,8,13],[8,2,10,5],[8,6,10,6],[9,10,10,10]]}
[]
[]
[null,"TIME CALCULATOR FOR IB EXAMS"]
[null,null,"Please select UP TO FOUR courses (they have to start together)"]
[null,null,"(For Level :  Insert HL or SL courses separately; Insert HL/SL for a common duration)"]
[]
[]
[]
[null,null,"Course",null,null,null,"Level","Regular duration hours   min",null,null,"Check the appropriate boxes"]
[null,null,null,null,null,null,null,null,null,null,"Regular students",0.1,0.25,0.5]
[null,null,null,null,null,null,null,"hours","min",null,null,"extra","extra","extra"]
[]
[]
[]
[]
[]
[]
[null,null,null,null,null,"Hours","Min"]
[null,null,"START TIME",null,null,0,0]

{"sheet":"Regular","index":1,"n_rows":43,"n_cols":10,"rows_kept":43,"cut":false,"hidden":false,"merged":[[1,0,1,9],[8,1,9,1],[8,2,9,2],[28,4,42,4],[28,6,28,9],[32,6,32,9],[29,6,29,9],[9,8,9,9],[13,1,13,2],[12,1,12,2],[21,1,21,2],[41,1,41,2],[6,6,6,9],[6,1,6,2],[17,1,17,2],[33,1,33,2],[20,1,20,2],[28,1,28,2],[29,1,29,2],[36,1,36,2],[37,1,37,2]]}
[]
["Regular Time Students"]
[]
[]
[]
[]
[null,"Times per course",null,null,null,null,"Times in order"]
[]
[null,"START TIME",{"$f":"TIME(RESET!F19,RESET!G19,0)","v":"00:00:00"}]
[null,null,null,null,null,null,{"$f":"Ignore1!B17","v":"00:00:00"},"START","All"]
[null,null,null,null,null,null,{"$f":"IF(Ignore1!B18=24,\"\",Ignore1!B18)","v":""},{"$f":"Ignore1!C18","v":""},{"$f":"Ignore1!E18","v":""},{"$f":"Ignore1!H18","v":""}]
[null,null,null,null,null,null,{"$f":"IF(Ignore1!B19=24,\"\",Ignore1!B19)","v":""},{"$f":"Ignore1!C19","v":""},{"$f":"Ignore1!E19","v":""},{"$f":"Ignore1!H19","v":""}]
[null,{"$f":"IF(RESET!C12<>\"\",RESET!C12,\"\")","v":""},null,null,null,null,{"$f":"IF(Ignore1!B20=24,\"\",Ignore1!B20)","v":""},{"$f":"Ignore1!C20","v":""},{"$f":"Ignore1!E20","v":""},{"$f":"Ignore1!H20","v":""}]
[null,{"$f":"IF(RESET!G12<>\"\",RESET!G12,\"\")","v":""},null,null,null,null,{"$f":"IF(Ignore1!B21=24,\"\",Ignore1!B21)","v":""},{"$f":"Ignore1!C21","v":""},{"$f":"Ignore1!E21","v":""},{"$f":"Ignore1!H21","v":""}]
[null,{"$f":"IF(RESET!C12<>\"\",\"30 min\",\"\")","v":""},{"$f":"IF(RESET!K12=FALSE,\"\",C9+TIME(0,C19-30,0))","v":""},null,null,null,{"$f":"IF(Ignore1!B22=24,\"\",Ignore1!B22)","v":""},{"$f":"Ignore1!C22","v":""},{"$f":"Ignore1!E22","v":""},{"$f":"Ignore1!H22","v":""}]
[null,{"$f":"IF(RESET!C12<>\"\",\"5 min\",\"\")","v":""},{"$f":"IF(RESET!K12=FALSE,\"\",C9+TIME(0,C19-5,0))","v":""},null,null,null,{"$f":"IF(Ignore1!B23=24,\"\",Ignore1!B23)","v":""},{"$f":"Ignore1!C23","v":""},{"$f":"Ignore1!E23","v":""},{"$f":"Ignore1!H23","v":""}]
[null,{"$f":"IF(RESET!C12<>\"\",\"FINISH\",\"\")","v":""},{"$f":"IF(RESET!K12=FALSE,\"\",C9+TIME(0,C19,0))","v":""},null,null,null,{"$f":"IF(Ignore1!B24=24,\"\",Ignore1!B24)","v":""},{"$f":"Ignore1!C24","v":""},{"$f":"Ignore1!E24","v":""},{"$f":"Ignore1!H24","v":""}]
[null,null,null,null,null,null,{"$f":"IF(Ignore1!B25=24,\"\",Ignore1!B25)","v":""},{"$f":"Ignore1!C25","v":""},{"$f":"Ignore1!E25","v":""},{"$f":"Ignore1!H25","v":""}]
[null,{"$f":"IF(RESET!C12<>\"\",\"Duration (min)\",\"\")","v":""},{"$f":"RESET!H12*60+RESET!I12","v":0},null,null,null,{"$f":"IF(Ignore1!B26=24,\"\",Ignore1!B26)","v":""},{"$f":"Ignore1!C26","v":""},{"$f":"Ignore1!E26","v":""},{"$f":"Ignore1!H26","v":""}]
[null,null,null,null,null,null,{"$f":"IF(Ignore1!B27=24,\"\",Ignore1!B27)","v":""},{"$f":"Ignore1!C27","v":""},{"$f":"Ignore1!E27","v":""},{"$f":"Ignore1!H27","v":""}]
[null,{"$f":"IF(RESET!C13<>\"\",RESET!C13,\"\")","v":""},null,null,null,null,{"$f":"IF(Ignore1!B28=24,\"\",Ignore1!B28)","v":""},{"$f":"Ignore1!C28","v":""},{"$f":"Ignore1!E28","v":""},{"$f":"Ignore1!H28","v":""}]
[null,{"$f":"IF(RESET!G13<>\"\",RESET!G13,\"\")","v":""},null,null,null,null,{"$f":"IF(Ignore1!B29=24,\"\",Ignore1!B29)","v":""},{"$f":"Ignore1!C29","v":""},{"$f":"Ignore1!E29","v":""},{"$f":"Ignore1!H29","v":""}]
[null,{"$f":"IF(RESET!C13<>\"\",\"30 min\",\"\")","v":""},{"$f":"IF(RESET!K13=FALSE,\"\",C9+TIME(0,C27-30,0))","v":""}]
[null,{"$f":"IF(RESET!C13<>\"\",\"5 min\",\"\")","v":""},{"$f":"IF(RESET!K13=FALSE,\"\",C9+TIME(0,C27-5,0))","v":""}]
[null,{"$f":"IF(RESET!C13<>\"\",\"FINISH\",\"\")","v":""},{"$f":"IF(RESET!K13=FALSE,\"\",C9+TIME(0,C27,0))","v":""}]
[]
[null,{"$f":"IF(RESET!C13<>\"\",\"Duration (min)\",\"\")","v":""},{"$f":"RESET!H13*60+RESET!I13","v":0}]
[]
[null,{"$f":"IF(RESET!C14<>\"\",RESET!C14,\"\")","v":""},null,null,null,null,"All students are not allowed to leave before"]
[null,{"$f":"IF(RESET!G14<>\"\",RESET!G14,\"\")","v":""},null,null,null,null,{"$f":" C9+TIME(0,60,0)","v":"01:00:00"}]
[null,{"$f":"IF(RESET!C14<>\"\",\"30 min\",\"\")","v":""},{"$f":"IF(RESET!K14=FALSE,\"\",C9+TIME(0,C35-30,0))","v":""}]
[null,{"$f":"IF(RESET!C14<>\"\",\"5 min\",\"\")","v":""},{"$f":"IF(RESET!K14=FALSE,\"\",C9+TIME(0,C35-5,0))","v":""}]
[null,{"$f":"IF(RESET!C14<>\"\",\"FINISH\",\"\")","v":""},{"$f":"IF(RESET!K14=FALSE,\"\",C9+TIME(0,C35,0))","v":""},null,null,null,"Students are not allowed to leave"]
[null,null,null,null,null,null,{"$f":"IF(B13=\"\",\"\",IF(C19<=75,\"until\",\"after\"))","v":""},{"$f":"IF(B13=\"\",\"\",IF(C19<=75,\"the end\",C17-TIME(0,15,0)))","v":""},{"$f":"IF(B13=\"\",\"\",\" for \"&B13&\", \"&B14)","v":""}]
[null,{"$f":"IF(RESET!C14<>\"\",\"Duration (min)\",\"\")","v":""},{"$f":"RESET!H14*60+RESET!I14","v":0},null,null,null,{"$f":"IF(B21=\"\",\"\",IF(C27<=75,\"until\",\"after\"))","v":""},{"$f":"IF(B21=\"\",\"\",IF(C27<=75,\"the end\",C25-TIME(0,15,0)))","v":""},{"$f":"IF(B21=\"\",\"\",\" for \"&B21&\", \"&B22)","v":""}]
[null,null,null,null,null,null,{"$f":"IF(B29=\"\",\"\",IF(C35<=75,\"until\",\"after\"))","v":""},{"$f":"IF(B29=\"\",\"\",IF(C35<=75,\"the end\",C33-TIME(0,15,0)))","v":""},{"$f":"IF(B29=\"\",\"\",\" for \"&B29&\", \"&B30)","v":""}]
[null,{"$f":"IF(RESET!C15<>\"\",RESET!C15,\"\")","v":""},null,null,null,null,{"$f":"IF(B37=\"\",\"\",IF(C43<=75,\"until\",\"after\"))","v":""},{"$f":"IF(B37=\"\",\"\",IF(C43<=75,\"the end\",C41-TIME(0,15,0)))","v":""},{"$f":"IF(B37=\"\",\"\",\" for \"&B37&\", \"&B38)","v":""}]
[null,{"$f":"IF(RESET!G15<>\"\",RESET!G15,\"\")","v":""}]
[null,{"$f":"IF(RESET!C15<>\"\",\"30 min\",\"\")","v":""},{"$f":"IF(RESET!K15=FALSE,\"\",C9+TIME(0,C43-30,0))","v":""}]
[null,{"$f":"IF(RESET!C15<>\"\",\"5 min\",\"\")","v":""},{"$f":"IF(RESET!K15=FALSE,\"\",C9+TIME(0,C43-5,0))","v":""}]
[null,{"$f":"IF(RESET!C15<>\"\",\"FINISH\",\"\")","v":""},{"$f":"IF(RESET!K15=FALSE,\"\",C9+TIME(0,C43,0))","v":""}]
[]
[null,{"$f":"IF(RESET!C15<>\"\",\"Duration (min)\",\"\")","v":""},{"$f":"RESET!H15*60+RESET!I15","v":0}]

{"sheet":"Extra","index":2,"n_rows":45,"n_cols":12,"rows_kept":45,"cut":false,"hidden":false,"merged":[[37,1,37,4],[1,1,1,11],[8,10,8,11],[5,8,5,11],[5,1,5,4],[5,6,44,6],[11,1,11,4],[20,1,20,4],[29,1,29,4],[38,1,38,4],[7,1,8,2],[7,3,8,4],[10,1,10,4],[19,1,19,4],[28,1,28,4]]}
[]
[null,"Extra Time Students"]
[]
[]
[]
[null,"Times per course",null,null,null,null,null,null,"Times in order"]
[]
[null,"START TIME",null,{"$f":"Regular!C9","v":"00:00:00"}]
[null,null,null,null,null,null,null,null,{"$f":"Regular!C9","v":"00:00:00"},"START","All "]
[null,null,null,null,null,null,null,null,{"$f":"IF(Ignore2!B45=24,\"\",Ignore2!B45)","v":""},{"$f":"Ignore2!C45","v":""},{"$f":"Ignore2!D45","v":""},{"$f":"Ignore2!E45","v":""}]
[null,{"$f":"IF(RESET!C12<>\"\",RESET!C12,\"\")","v":""},null,null,null,null,null,null,{"$f":"IF(Ignore2!B46=24,\"\",Ignore2!B46)","v":""},{"$f":"Ignore2!C46","v":""},{"$f":"Ignore2!D46","v":""},{"$f":"Ignore2!E46","v":""}]
[null,{"$f":"IF(RESET!G12<>\"\",RESET!G12,\"\")","v":""},null,null,null,null,null,null,{"$f":"IF(Ignore2!B47=24,\"\",Ignore2!B47)","v":""},{"$f":"Ignore2!C47","v":""},{"$f":"Ignore2!D47","v":""},{"$f":"Ignore2!E47","v":""}]
[null,null,{"$f":"IF(RESET!L12=FALSE,\"\",10%)","v":""},{"$f":"IF(RESET!M12=FALSE,\"\",25%)","v":""},{"$f":"IF(RESET!N12=FALSE,\"\",50%)","v":""},null,null,null,{"$f":"IF(Ignore2!B48=24,\"\",Ignore2!B48)","v":""},{"$f":"Ignore2!C48","v":""},{"$f":"Ignore2!D48","v":""},{"$f":"Ignore2!E48","v":""}]
[null,{"$f":"IF(RESET!C12<>\"\",\"30 min\",\"\")","v":""},{"$f":"IF(RESET!L12=FALSE,\"\",Regular!C9+TIME(0,C18-30,0))","v":""},{"$f":"IF(RESET!M12=FALSE,\"\",Regular!C9+TIME(0,D18-30,0))","v":""},{"$f":"IF(RESET!N12=FALSE,\"\",Regular!C9+TIME(0,E18-30,0))","v":""},null,null,null,{"$f":"IF(Ignore2!B49=24,\"\",Ignore2!B49)","v":""},{"$f":"Ignore2!C49","v":""},{"$f":"Ignore2!D49","v":""},{"$f":"Ignore2!E49","v":""}]
[null,{"$f":"IF(RESET!C12<>\"\",\"5 min\",\"\")","v":""},{"$f":"IF(RESET!L12=FALSE,\"\",Regular!C9+TIME(0,C18-5,0))","v":""},{"$f":"IF(RESET!M12=FALSE,\"\",Regular!C9+TIME(0,D18-5,0))","v":""},{"$f":"IF(RESET!N12=FALSE,\"\",Regular!C9+TIME(0,E18-5,0))","v":""},null,null,null,{"$f":"IF(Ignore2!B50=24,\"\",Ignore2!B50)","v":""},{"$f":"Ignore2!C50","v":""},{"$f":"Ignore2!D50","v":""},{"$f":"Ignore2!E50","v":""}]
[null,{"$f":"IF(RESET!C12<>\"\",\"FINISH\",\"\")","v":""},{"$f":"IF(RESET!L12=FALSE,\"\",Regular!C9+TIME(0,C18,0))","v":""},{"$f":"IF(RESET!M12=FALSE,\"\",Regular!C9+TIME(0,D18,0))","v":""},{"$f":"IF(RESET!N12=FALSE,\"\",Regular!C9+TIME(0,E18,0))","v":""},null,null,null,{"$f":"IF(Ignore2!B51=24,\"\",Ignore2!B51)","v":""},{"$f":"Ignore2!C51","v":""},{"$f":"Ignore2!D51","v":""},{"$f":"Ignore2!E51","v":""}]
[null,null,null,null,null,null,null,null,{"$f":"IF(Ignore2!B52=24,\"\",Ignore2!B52)","v":""},{"$f":"Ignore2!C52","v":""},{"$f":"Ignore2!D52","v":""},{"$f":"Ignore2!E52","v":""}]
[null,{"$f":"IF(RESET!C12<>\"\",\"Duration (min)\",\"\")","v":""},{"$f":"IF(RESET!L12=FALSE,\"\",ROUNDUP(1.1*Regular!C19,0))","v":""},{"$f":"IF(RESET!M12=FALSE,\"\",ROUNDUP(1.25*Regular!C19,0))","v":""},{"$f":"IF(RESET!N12=FALSE,\"\",ROUNDUP(1.5*Regular!C19,0))","v":""},null,null,null,{"$f":"IF(Ignore2!B53=24,\"\",Ignore2!B53)","v":""},{"$f":"Ignore2!C53","v":""},{"$f":"Ignore2!D53","v":""},{"$f":"Ignore2!E53","v":""}]
[null,null,null,null,null,null,null,null,{"$f":"IF(Ignore2!B54=24,\"\",Ignore2!B54)","v":""},{"$f":"Ignore2!C54","v":""},{"$f":"Ignore2!D54","v":""},{"$f":"Ignore2!E54","v":""}]
[null,{"$f":"IF(RESET!C13<>\"\",RESET!C13,\"\")","v":""},null,null,null,null,null,null,{"$f":"IF(Ignore2!B55=24,\"\",Ignore2!B55)","v":""},{"$f":"Ignore2!C55","v":""},{"$f":"Ignore2!D55","v":""},{"$f":"Ignore2!E55","v":""}]
[null,{"$f":"IF(RESET!G13<>\"\",RESET!G13,\"\")","v":""},null,null,null,null,null,null,{"$f":"IF(Ignore2!B56=24,\"\",Ignore2!B56)","v":""},{"$f":"Ignore2!C56","v":""},{"$f":"Ignore2!D56","v":""},{"$f":"Ignore2!E56","v":""}]
[null,null,{"$f":"IF(RESET!L13=FALSE,\"\",10%)","v":""},{"$f":"IF(RESET!M13=FALSE,\"\",25%)","v":""},{"$f":"IF(RESET!N13=FALSE,\"\",50%)","v":""},null,null,null,{"$f":"IF(Ignore2!B57=24,\"\",Ignore2!B57)","v":""},{"$f":"Ignore2!C57","v":""},{"$f":"Ignore2!D57","v":""},{"$f":"Ignore2!E57","v":""}]
[null,{"$f":"IF(RESET!C13<>\"\",\"30 min\",\"\")","v":""},{"$f":"IF(RESET!L13=FALSE,\"\",Regular!C9+TIME(0,C27-30,0))","v":""},{"$f":"IF(RESET!M13=FALSE,\"\",Regular!C9+TIME(0,D27-30,0))","v":""},{"$f":"IF(RESET!N13=FALSE,\"\",Regular!C9+TIME(0,E27-30,0))","v":""},null,null,null,{"$f":"IF(Ignore2!B58=24,\"\",Ignore2!B58)","v":""},{"$f":"Ignore2!C58","v":""},{"$f":"Ignore2!D58","v":""},{"$f":"Ignore2!E58","v":""}]
[null,{"$f":"IF(RESET!C13<>\"\",\"5 min\",\"\")","v":""},{"$f":"IF(RESET!L13=FALSE,\"\",Regular!C9+TIME(0,C27-5,0))","v":""},{"$f":"IF(RESET!M13=FALSE,\"\",Regular!C9+TIME(0,D27-5,0))","v":""},{"$f":"IF(RESET!N13=FALSE,\"\",Regular!C9+TIME(0,E27-5,0))","v":""},null,null,null,{"$f":"IF(Ignore2!B59=24,\"\",Ignore2!B59)","v":""},{"$f":"Ignore2!C59","v":""},{"$f":"Ignore2!D59","v":""},{"$f":"Ignore2!E59","v":""}]
[null,{"$f":"IF(RESET!C13<>\"\",\"FINISH\",\"\")","v":""},{"$f":"IF(RESET!L13=FALSE,\"\",Regular!C9+TIME(0,C27,0))","v":""},{"$f":"IF(RESET!M13=FALSE,\"\",Regular!C9+TIME(0,D27,0))","v":""},{"$f":"IF(RESET!N13=FALSE,\"\",Regular!C9+TIME(0,E27,0))","v":""},null,null,null,{"$f":"IF(Ignore2!B60=24,\"\",Ignore2!B60)","v":""},{"$f":"Ignore2!C60","v":""},{"$f":"Ignore2!D60","v":""},{"$f":"Ignore2!E60","v":""}]
[null,null,null,null,null,null,null,null,{"$f":"IF(Ignore2!B61=24,\"\",Ignore2!B61)","v":""},{"$f":"Ignore2!C61","v":""},{"$f":"Ignore2!D61","v":""},{"$f":"Ignore2!E61","v":""}]
[null,{"$f":"IF(RESET!C13<>\"\",\"Duration (min)\",\"\")","v":""},{"$f":"IF(RESET!L13=FALSE,\"\",ROUNDUP(1.1*Regular!C27,0))","v":""},{"$f":"IF(RESET!M13=FALSE,\"\",ROUNDUP(1.25*Regular!C27,0))","v":""},{"$f":"IF(RESET!N13=FALSE,\"\",ROUNDUP(1.5*Regular!C27,0))","v":""},null,null,null,{"$f":"IF(Ignore2!B62=24,\"\",Ignore2!B62)","v":""},{"$f":"Ignore2!C62","v":""},{"$f":"Ignore2!D62","v":""},{"$f":"Ignore2!E62","v":""}]
[null,null,null,null,null,null,null,null,{"$f":"IF(Ignore2!B63=24,\"\",Ignore2!B63)","v":""},{"$f":"Ignore2!C63","v":""},{"$f":"Ignore2!D63","v":""},{"$f":"Ignore2!E63","v":""}]
[null,{"$f":"IF(RESET!C14<>\"\",RESET!C14,\"\")","v":""},null,null,null,null,null,null,{"$f":"IF(Ignore2!B64=24,\"\",Ignore2!B64)","v":""},{"$f":"Ignore2!C64","v":""},{"$f":"Ignore2!D64","v":""},{"$f":"Ignore2!E64","v":""}]
[null,{"$f":"IF(RESET!G14<>\"\",RESET!G14,\"\")","v":""},null,null,null,null,null,null,{"$f":"IF(Ignore2!B65=24,\"\",Ignore2!B65)","v":""},{"$f":"Ignore2!C65","v":""},{"$f":"Ignore2!D65","v":""},{"$f":"Ignore2!E65","v":""}]
[null,null,{"$f":"IF(RESET!L14=FALSE,\"\",10%)","v":""},{"$f":"IF(RESET!M14=FALSE,\"\",25%)","v":""},{"$f":"IF(RESET!N14=FALSE,\"\",50%)","v":""},null,null,null,{"$f":"IF(Ignore2!B66=24,\"\",Ignore2!B66)","v":""},{"$f":"Ignore2!C66","v":""},{"$f":"Ignore2!D66","v":""},{"$f":"Ignore2!E66","v":""}]
[null,{"$f":"IF(RESET!C14<>\"\",\"30 min\",\"\")","v":""},{"$f":"IF(RESET!L14=FALSE,\"\",Regular!C9+TIME(0,C36-30,0))","v":""},{"$f":"IF(RESET!M14=FALSE,\"\",Regular!C9+TIME(0,D36-30,0))","v":""},{"$f":"IF(RESET!N14=FALSE,\"\",Regular!C9+TIME(0,E36-30,0))","v":""},null,null,null,{"$f":"IF(Ignore2!B67=24,\"\",Ignore2!B67)","v":""},{"$f":"Ignore2!C67","v":""},{"$f":"Ignore2!D67","v":""},{"$f":"Ignore2!E67","v":""}]
[null,{"$f":"IF(RESET!C14<>\"\",\"5 min\",\"\")","v":""},{"$f":"IF(RESET!L14=FALSE,\"\",Regular!C9+TIME(0,C36-5,0))","v":""},{"$f":"IF(RESET!M14=FALSE,\"\",Regular!C9+TIME(0,D36-5,0))","v":""},{"$f":"IF(RESET!N14=FALSE,\"\",Regular!C9+TIME(0,E36-5,0))","v":""},null,null,null,{"$f":"IF(Ignore2!B68=24,\"\",Ignore2!B68)","v":""},{"$f":"Ignore2!C68","v":""},{"$f":"Ignore2!D68","v":""},{"$f":"Ignore2!E68","v":""}]
[null,{"$f":"IF(RESET!C14<>\"\",\"FINISH\",\"\")","v":""},{"$f":"IF(RESET!L14=FALSE,\"\",Regular!C9+TIME(0,C36,0))","v":""},{"$f":"IF(RESET!M14=FALSE,\"\",Regular!C9+TIME(0,D36,0))","v":""},{"$f":"IF(RESET!N14=FALSE,\"\",Regular!C9+TIME(0,E36,0))","v":""},null,null,null,{"$f":"IF(Ignore2!B69=24,\"\",Ignore2!B69)","v":""},{"$f":"Ignore2!C69","v":""},{"$f":"Ignore2!D69","v":""},{"$f":"Ignore2!E69","v":""}]
[null,null,null,null,null,null,null,null,{"$f":"IF(Ignore2!B70=24,\"\",Ignore2!B70)","v":""},{"$f":"Ignore2!C70","v":""},{"$f":"Ignore2!D70","v":""},{"$f":"Ignore2!E70","v":""}]
[null,{"$f":"IF(RESET!C14<>\"\",\"Duration (min)\",\"\")","v":""},{"$f":"IF(RESET!L14=FALSE,\"\",ROUNDUP(1.1*Regular!C35,0))","v":""},{"$f":"IF(RESET!M14=FALSE,\"\",ROUNDUP(1.25*Regular!C35,0))","v":""},{"$f":"IF(RESET!N14=FALSE,\"\",ROUNDUP(1.5*Regular!C35,0))","v":""},null,null,null,{"$f":"IF(Ignore2!B71=24,\"\",Ignore2!B71)","v":""},{"$f":"Ignore2!C71","v":""},{"$f":"Ignore2!D71","v":""},{"$f":"Ignore2!E71","v":""}]
[null,null,null,null,null,null,null,null,{"$f":"IF(Ignore2!B72=24,\"\",Ignore2!B72)","v":""},{"$f":"Ignore2!C72","v":""},{"$f":"Ignore2!D72","v":""},{"$f":"Ignore2!E72","v":""}]
[null,{"$f":"IF(RESET!C15<>\"\",RESET!C15,\"\")","v":""},null,null,null,null,null,null,{"$f":"IF(Ignore2!B73=24,\"\",Ignore2!B73)","v":""},{"$f":"Ignore2!C73","v":""},{"$f":"Ignore2!D73","v":""},{"$f":"Ignore2!E73","v":""}]
[null,{"$f":"IF(RESET!G15<>\"\",RESET!G15,\"\")","v":""},null,null,null,null,null,null,{"$f":"IF(Ignore2!B74=24,\"\",Ignore2!B74)","v":""},{"$f":"Ignore2!C74","v":""},{"$f":"Ignore2!D74","v":""},{"$f":"Ignore2!E74","v":""}]
[null,null,{"$f":"IF(RESET!L15=FALSE,\"\",10%)","v":""},{"$f":"IF(RESET!M15=FALSE,\"\",25%)","v":""},{"$f":"IF(RESET!N15=FALSE,\"\",50%)","v":""},null,null,null,{"$f":"IF(Ignore2!B75=24,\"\",Ignore2!B75)","v":""},{"$f":"Ignore2!C75","v":""},{"$f":"Ignore2!D75","v":""},{"$f":"Ignore2!E75","v":""}]
[null,{"$f":"IF(RESET!C15<>\"\",\"30 min\",\"\")","v":""},{"$f":"IF(RESET!L15=FALSE,\"\",Regular!C9+TIME(0,C45-30,0))","v":""},{"$f":"IF(RESET!M15=FALSE,\"\",Regular!C9+TIME(0,D45-30,0))","v":""},{"$f":"IF(RESET!N15=FALSE,\"\",Regular!C9+TIME(0,E45-30,0))","v":""},null,null,null,{"$f":"IF(Ignore2!B76=24,\"\",Ignore2!B76)","v":""},{"$f":"Ignore2!C76","v":""},{"$f":"Ignore2!D76","v":""},{"$f":"Ignore2!E76","v":""}]
[null,{"$f":"IF(RESET!C15<>\"\",\"5 min\",\"\")","v":""},{"$f":"IF(RESET!L15=FALSE,\"\",Regular!C9+TIME(0,C45-5,0))","v":""},{"$f":"IF(RESET!M15=FALSE,\"\",Regular!C9+TIME(0,D45-5,0))","v":""},{"$f":"IF(RESET!N15=FALSE,\"\",Regular!C9+TIME(0,E45-5,0))","v":""},null,null,null,{"$f":"IF(Ignore2!B77=24,\"\",Ignore2!B77)","v":""},{"$f":"Ignore2!C77","v":""},{"$f":"Ignore2!D77","v":""},{"$f":"Ignore2!E77","v":""}]
[null,{"$f":"IF(RESET!C15<>\"\",\"FINISH\",\"\")","v":""},{"$f":"IF(RESET!L15=FALSE,\"\",Regular!C9+TIME(0,C45,0))","v":""},{"$f":"IF(RESET!M15=FALSE,\"\",Regular!C9+TIME(0,D45,0))","v":""},{"$f":"IF(RESET!N15=FALSE,\"\",Regular!C9+TIME(0,E45,0))","v":""},null,null,null,{"$f":"IF(Ignore2!B78=24,\"\",Ignore2!B78)","v":""},{"$f":"Ignore2!C78","v":""},{"$f":"Ignore2!D78","v":""},{"$f":"Ignore2!E78","v":""}]
[null,null,null,null,null,null,null,null,{"$f":"IF(Ignore2!B79=24,\"\",Ignore2!B79)","v":""},{"$f":"Ignore2!C79","v":""},{"$f":"Ignore2!D79","v":""},{"$f":"Ignore2!E79","v":""}]
[null,{"$f":"IF(RESET!C15<>\"\",\"Duration (min)\",\"\")","v":""},{"$f":"IF(RESET!L15=FALSE,\"\",ROUNDUP(1.1*Regular!C43,0))","v":""},{"$f":"IF(RESET!M15=FALSE,\"\",ROUNDUP(1.25*Regular!C43,0))","v":""},{"$f":"IF(RESET!N15=FALSE,\"\",ROUNDUP(1.5*Regular!C43,0))","v":""},null,null,null,{"$f":"IF(Ignore2!B80=24,\"\",Ignore2!B80)","v":""},{"$f":"Ignore2!C80","v":""},{"$f":"Ignore2!D80","v":""},{"$f":"Ignore2!E80","v":""}]

{"sheet":"Posters","index":3,"n_rows":13,"n_cols":10,"rows_kept":13,"cut":false,"hidden":false,"merged":[[1,1,1,9],[3,3,3,7],[4,3,4,7],[10,1,10,4],[11,1,11,4],[10,6,10,9],[11,6,11,9],[6,1,6,4],[7,1,7,4],[6,6,6,9],[7,6,7,9]]}
[]
[null,"Time Posters"]
[]
[null,null,null," Click on the corresponding "]
[null,null,null,"button for a print out"]
[]
[null,{"$f":"IF(RESET!C12<>\"\",RESET!C12,\"\")","v":""},null,null,null,null,{"$f":"IF(RESET!C13<>\"\",RESET!C13,\"\")","v":""}]
[null,{"$f":"IF(RESET!G12<>\"\",RESET!G12,\"\")","v":""},null,null,null,null,{"$f":"IF(RESET!G13<>\"\",RESET!G13,\"\")","v":""}]
[null,{"$f":"IF(RESET!K12=FALSE,\"\",\"REG\")","v":""},{"$f":"IF(RESET!L12=FALSE,\"\",10%)","v":""},{"$f":"IF(RESET!M12=FALSE,\"\",25%)","v":""},{"$f":"IF(RESET!N12=FALSE,\"\",50%)","v":""},null,{"$f":"IF(RESET!K13=FALSE,\"\",\"REG\")","v":""},{"$f":"IF(RESET!L13=FALSE,\"\",10%)","v":""},{"$f":"IF(RESET!M13=FALSE,\"\",25%)","v":""},{"$f":"IF(RESET!N13=FALSE,\"\",50%)","v":""}]
[]
[null,{"$f":"IF(RESET!C14<>\"\",RESET!C14,\"\")","v":""},null,null,null,null,{"$f":"IF(RESET!C15<>\"\",RESET!C15,\"\")","v":""}]
[null,{"$f":"IF(RESET!G14<>\"\",RESET!G14,\"\")","v":""},null,null,null,null,{"$f":"IF(RESET!G15<>\"\",RESET!G15,\"\")","v":""}]
[null,{"$f":"IF(RESET!K14=FALSE,\"\",\"REG\")","v":""},{"$f":"IF(RESET!L14=FALSE,\"\",10%)","v":""},{"$f":"IF(RESET!M14=FALSE,\"\",25%)","v":""},{"$f":"IF(RESET!N14=FALSE,\"\",50%)","v":""},null,{"$f":"IF(RESET!K15=FALSE,\"\",\"REG\")","v":""},{"$f":"IF(RESET!L15=FALSE,\"\",10%)","v":""},{"$f":"IF(RESET!M15=FALSE,\"\",25%)","v":""},{"$f":"IF(RESET!N15=FALSE,\"\",50%)","v":""}]

{"sheet":"COURSES","index":4,"n_rows":28,"n_cols":5,"rows_kept":28,"cut":false,"hidden":false,"merged":[[2,1,2,7],[1,1,1,7]]}
[]
[null,"Should you wish to add extra courses:"]
[null,"Please ensure that the length of the course title is within the margin"]
[]
[]
[null,"COURSES",null,null,"LEVELS"]
[]
[null,"MODERN GREEK",null,null,"HL"]
[null,"ENGLISH L&L",null,null,"SL"]
[null,"ENGLISH B",null,null,"HL/SL"]
[null,"BUSINESS MNGT"]
[null,"ECONOMICS"]
[null,"HISTORY"]
[null,"PSYCHOLOGY"]
[null,"SOCIAL ANTH/LOGY"]
[null,"ENV/NTAL SYSTEMS"]
[null,"BIOLOGY"]
[null,"CHEMISTRY"]
[null,"PHYSICS"]
[null,"COMPUTER SCIENCE"]
[null,"MATHEMATICS"]
[null,"GLOBAL POLITICS"]
[null,"PHILOSOPHY"]
[null,"VISUAL ARTS"]
[null,"MUSIC"]
[null,"THEATER"]
[null,"FRENCH"]
[null,"GERMAN"]

{"sheet":"Remarks","index":5,"n_rows":19,"n_cols":2,"rows_kept":19,"cut":false,"hidden":false,"merged":[]}
[]
[]
[null,"REMARKS (for future modifications of the programme)"]
[]
[null,"The user can only complete or reset the appropriate cells in the first sheet (RESET)."]
[null,"More courses may also be added in sheet COURSES."]
[null,"All other cells are protected."]
[]
[null,"Should you wish to modify other cells or pages you must cancel protection"]
[null,"(right click on page title below)."]
[null,"There is no password for protection (just leave empty when asked)."]
[]
[null,"There are also 2 hidden sheets called Ignore1 and Ignore2, where all calculations are made."]
[]
[null,"June 2017"]
[]
[null,"Christos Nikolaidis"]
[null,"IB Math Teacher, HAEF"]
[null,"christosnikolaidis@otenet.gr"]

{"sheet":"R1","index":6,"n_rows":7,"n_cols":2,"rows_kept":7,"cut":false,"hidden":false,"merged":[[0,0,0,1],[2,0,2,1],[1,0,1,1]]}
[{"$f":"Regular!B13","v":""}]
[{"$f":"IF(A1=\"\",\"\",RESET!G12)","v":""}]
[]
[{"$f":"IF(A1=\"\",\"\",\"     START\")","v":""},{"$f":"IF(A1=\"\",\"\",Regular!C9)","v":""}]
[{"$f":"IF(A1=\"\",\"\",\"     30 min\")","v":""},{"$f":"IF(A1=\"\",\"\",Regular!C15)","v":""}]
[{"$f":"IF(A1=\"\",\"\",\"       5 min\")","v":""},{"$f":"IF(A1=\"\",\"\",Regular!C16)","v":""}]
[{"$f":"IF(A1=\"\",\"\",\"  FINISH\")","v":""},{"$f":"IF(A1=\"\",\"\",Regular!C17)","v":""}]

{"sheet":"P1","index":7,"n_rows":7,"n_cols":2,"rows_kept":7,"cut":false,"hidden":false,"merged":[[0,0,0,1],[2,0,2,1]]}
[{"$f":"IF(B2=\"\",\"\",RESET!C12)","v":""}]
[{"$f":"IF(B2=\"\",\"\",RESET!G12)","v":""},{"$f":"Extra!C13","v":""}]
[]
[{"$f":"IF(B2=\"\",\"\",\"     START\")","v":""},{"$f":"IF(B2=\"\",\"\",Extra!D8)","v":""}]
[{"$f":"IF(B2=\"\",\"\",\"     30 min\")","v":""},{"$f":"IF(B2=\"\",\"\",Extra!C14)","v":""}]
[{"$f":"IF(B2=\"\",\"\",\"       5 min\")","v":""},{"$f":"IF(B2=\"\",\"\",Extra!C15)","v":""}]
[{"$f":"IF(B2=\"\",\"\",\"  FINISH\")","v":""},{"$f":"IF(B2=\"\",\"\",Extra!C16)","v":""}]

{"sheet":"P2","index":8,"n_rows":7,"n_cols":2,"rows_kept":7,"cut":false,"hidden":false,"merged":[[0,0,0,1],[2,0,2,1]]}
[{"$f":"IF(B2=\"\",\"\",RESET!C12)","v":""}]
[{"$f":"IF(B2=\"\",\"\",RESET!G12)","v":""},{"$f":"Extra!D13","v":""}]
[]
[{"$f":"IF(B2=\"\",\"\",\"     START\")","v":""},{"$f":"IF(B2=\"\",\"\",Extra!D8)","v":""}]
[{"$f":"IF(B2=\"\",\"\",\"     30 min\")","v":""},{"$f":"IF(B2=\"\",\"\",Extra!D14)","v":""}]
[{"$f":"IF(B2=\"\",\"\",\"       5 min\")","v":""},{"$f":"IF(B2=\"\",\"\",Extra!D15)","v":""}]
[{"$f":"IF(B2=\"\",\"\",\"  FINISH\")","v":""},{"$f":"IF(B2=\"\",\"\",Extra!D16)","v":""}]

{"sheet":"P3","index":9,"n_rows":7,"n_cols":2,"rows_kept":7,"cut":false,"hidden":false,"merged":[[0,0,0,1],[2,0,2,1]]}
[{"$f":"IF(B2=\"\",\"\",RESET!C12)","v":""}]
[{"$f":"IF(B2=\"\",\"\",RESET!G12)","v":""},{"$f":"Extra!E13","v":""}]
[]
[{"$f":"IF(B2=\"\",\"\",\"     START\")","v":""},{"$f":"IF(B2=\"\",\"\",Extra!D8)","v":""}]
[{"$f":"IF(B2=\"\",\"\",\"     30 min\")","v":""},{"$f":"IF(B2=\"\",\"\",Extra!E14)","v":""}]
[{"$f":"IF(B2=\"\",\"\",\"       5 min\")","v":""},{"$f":"IF(B2=\"\",\"\",Extra!E15)","v":""}]
[{"$f":"IF(B2=\"\",\"\",\"  FINISH\")","v":""},{"$f":"IF(B2=\"\",\"\",Extra!E16)","v":""}]

{"sheet":"R2","index":10,"n_rows":7,"n_cols":2,"rows_kept":7,"cut":false,"hidden":false,"merged":[[0,0,0,1],[2,0,2,1],[1,0,1,1]]}
[{"$f":"Regular!B21","v":""}]
[{"$f":"IF(A1=\"\",\"\",RESET!G13)","v":""}]
[]
[{"$f":"IF(A1=\"\",\"\",\"     START\")","v":""},{"$f":"IF(A1=\"\",\"\",Regular!C9)","v":""}]
[{"$f":"IF(A1=\"\",\"\",\"     30 min\")","v":""},{"$f":"IF(A1=\"\",\"\",Regular!C23)","v":""}]
[{"$f":"IF(A1=\"\",\"\",\"       5 min\")","v":""},{"$f":"IF(A1=\"\",\"\",Regular!C24)","v":""}]
[{"$f":"IF(A1=\"\",\"\",\"  FINISH\")","v":""},{"$f":"IF(A1=\"\",\"\",Regular!C25)","v":""}]

{"sheet":"P4","index":11,"n_rows":7,"n_cols":2,"rows_kept":7,"cut":false,"hidden":false,"merged":[[0,0,0,1],[2,0,2,1]]}
[{"$f":"IF(B2=\"\",\"\",RESET!C13)","v":""}]
[{"$f":"IF(B2=\"\",\"\",RESET!G13)","v":""},{"$f":"Extra!C22","v":""}]
[]
[{"$f":"IF(B2=\"\",\"\",\"     START\")","v":""},{"$f":"IF(B2=\"\",\"\",Extra!D8)","v":""}]
[{"$f":"IF(B2=\"\",\"\",\"     30 min\")","v":""},{"$f":"IF(B2=\"\",\"\",Extra!C23)","v":""}]
[{"$f":"IF(B2=\"\",\"\",\"       5 min\")","v":""},{"$f":"IF(B2=\"\",\"\",Extra!C24)","v":""}]
[{"$f":"IF(B2=\"\",\"\",\"  FINISH\")","v":""},{"$f":"IF(B2=\"\",\"\",Extra!C25)","v":""}]

{"sheet":"P5","index":12,"n_rows":7,"n_cols":2,"rows_kept":7,"cut":false,"hidden":false,"merged":[[0,0,0,1],[2,0,2,1]]}
[{"$f":"IF(B2=\"\",\"\",RESET!C13)","v":""}]
[{"$f":"IF(B2=\"\",\"\",RESET!G13)","v":""},{"$f":"Extra!D22","v":""}]
[]
[{"$f":"IF(B2=\"\",\"\",\"     START\")","v":""},{"$f":"IF(B2=\"\",\"\",Extra!D8)","v":""}]
[{"$f":"IF(B2=\"\",\"\",\"     30 min\")","v":""},{"$f":"IF(B2=\"\",\"\",Extra!D23)","v":""}]
[{"$f":"IF(B2=\"\",\"\",\"       5 min\")","v":""},{"$f":"IF(B2=\"\",\"\",Extra!D24)","v":""}]
[{"$f":"IF(B2=\"\",\"\",\"  FINISH\")","v":""},{"$f":"IF(B2=\"\",\"\",Extra!D25)","v":""}]

{"sheet":"P6","index":13,"n_rows":7,"n_cols":2,"rows_kept":7,"cut":false,"hidden":false,"merged":[[0,0,0,1],[2,0,2,1]]}
[{"$f":"IF(B2=\"\",\"\",RESET!C13)","v":""}]
[{"$f":"IF(B2=\"\",\"\",RESET!G13)","v":""},{"$f":"Extra!E22","v":""}]
[]
[{"$f":"IF(B2=\"\",\"\",\"     START\")","v":""},{"$f":"IF(B2=\"\",\"\",Extra!D8)","v":""}]
[{"$f":"IF(B2=\"\",\"\",\"     30 min\")","v":""},{"$f":"IF(B2=\"\",\"\",Extra!E23)","v":""}]
[{"$f":"IF(B2=\"\",\"\",\"       5 min\")","v":""},{"$f":"IF(B2=\"\",\"\",Extra!E24)","v":""}]
[{"$f":"IF(B2=\"\",\"\",\"  FINISH\")","v":""},{"$f":"IF(B2=\"\",\"\",Extra!E25)","v":""}]

{"sheet":"R3","index":14,"n_rows":7,"n_cols":2,"rows_kept":7,"cut":false,"hidden":false,"merged":[[0,0,0,1],[1,0,1,1],[2,0,2,1]]}
[{"$f":"Regular!B29","v":""}]
[{"$f":"IF(A1=\"\",\"\",RESET!G14)","v":""}]
[]
[{"$f":"IF(A1=\"\",\"\",\"     START\")","v":""},{"$f":"IF(A1=\"\",\"\",Regular!C9)","v":""}]
[{"$f":"IF(A1=\"\",\"\",\"     30 min\")","v":""},{"$f":"IF(A1=\"\",\"\",Regular!C31)","v":""}]
[{"$f":"IF(A1=\"\",\"\",\"       5 min\")","v":""},{"$f":"IF(A1=\"\",\"\",Regular!C32)","v":""}]
[{"$f":"IF(A1=\"\",\"\",\"  FINISH\")","v":""},{"$f":"IF(A1=\"\",\"\",Regular!C33)","v":""}]

{"sheet":"P7","index":15,"n_rows":7,"n_cols":2,"rows_kept":7,"cut":false,"hidden":false,"merged":[[0,0,0,1],[2,0,2,1]]}
[{"$f":"IF(B2=\"\",\"\",RESET!C14)","v":""}]
[{"$f":"IF(B2=\"\",\"\",RESET!G14)","v":""},{"$f":"Extra!C31","v":""}]
[]
[{"$f":"IF(B2=\"\",\"\",\"     START\")","v":""},{"$f":"IF(B2=\"\",\"\",Extra!D8)","v":""}]
[{"$f":"IF(B2=\"\",\"\",\"     30 min\")","v":""},{"$f":"IF(B2=\"\",\"\",Extra!C32)","v":""}]
[{"$f":"IF(B2=\"\",\"\",\"       5 min\")","v":""},{"$f":"IF(B2=\"\",\"\",Extra!C33)","v":""}]
[{"$f":"IF(B2=\"\",\"\",\"  FINISH\")","v":""},{"$f":"IF(B2=\"\",\"\",Extra!C34)","v":""}]

{"sheet":"P8","index":16,"n_rows":7,"n_cols":2,"rows_kept":7,"cut":false,"hidden":false,"merged":[[0,0,0,1],[2,0,2,1]]}
[{"$f":"IF(B2=\"\",\"\",RESET!C14)","v":""}]
[{"$f":"IF(B2=\"\",\"\",RESET!G14)","v":""},{"$f":"Extra!D31","v":""}]
[]
[{"$f":"IF(B2=\"\",\"\",\"     START\")","v":""},{"$f":"IF(B2=\"\",\"\",Extra!D8)","v":""}]
[{"$f":"IF(B2=\"\",\"\",\"     30 min\")","v":""},{"$f":"IF(B2=\"\",\"\",Extra!D32)","v":""}]
[{"$f":"IF(B2=\"\",\"\",\"       5 min\")","v":""},{"$f":"IF(B2=\"\",\"\",Extra!D33)","v":""}]
[{"$f":"IF(B2=\"\",\"\",\"  FINISH\")","v":""},{"$f":"IF(B2=\"\",\"\",Extra!D34)","v":""}]

{"sheet":"P9","index":17,"n_rows":7,"n_cols":2,"rows_kept":7,"cut":false,"hidden":false,"merged":[[0,0,0,1],[2,0,2,1]]}
[{"$f":"IF(B2=\"\",\"\",RESET!C14)","v":""}]
[{"$f":"IF(B2=\"\",\"\",RESET!G14)","v":""},{"$f":"Extra!E31","v":""}]
[]
[{"$f":"IF(B2=\"\",\"\",\"     START\")","v":""},{"$f":"IF(B2=\"\",\"\",Extra!D8)","v":""}]
[{"$f":"IF(B2=\"\",\"\",\"     30 min\")","v":""},{"$f":"IF(B2=\"\",\"\",Extra!E32)","v":""}]
[{"$f":"IF(B2=\"\",\"\",\"       5 min\")","v":""},{"$f":"IF(B2=\"\",\"\",Extra!E33)","v":""}]
[{"$f":"IF(B2=\"\",\"\",\"  FINISH\")","v":""},{"$f":"IF(B2=\"\",\"\",Extra!E34)","v":""}]

{"sheet":"R4","index":18,"n_rows":7,"n_cols":2,"rows_kept":7,"cut":false,"hidden":false,"merged":[[0,0,0,1],[1,0,1,1],[2,0,2,1]]}
[{"$f":"Regular!B37","v":""}]
[{"$f":"IF(A1=\"\",\"\",RESET!G15)","v":""}]
[]
[{"$f":"IF(A1=\"\",\"\",\"     START\")","v":""},{"$f":"IF(A1=\"\",\"\",Regular!C9)","v":""}]
[{"$f":"IF(A1=\"\",\"\",\"     30 min\")","v":""},{"$f":"IF(A1=\"\",\"\",Regular!C39)","v":""}]
[{"$f":"IF(A1=\"\",\"\",\"       5 min\")","v":""},{"$f":"IF(A1=\"\",\"\",Regular!C40)","v":""}]
[{"$f":"IF(A1=\"\",\"\",\"  FINISH\")","v":""},{"$f":"IF(A1=\"\",\"\",Regular!C41)","v":""}]

{"sheet":"P10","index":19,"n_rows":7,"n_cols":2,"rows_kept":7,"cut":false,"hidden":false,"merged":[[0,0,0,1],[2,0,2,1]]}
[{"$f":"IF(B2=\"\",\"\",RESET!C15)","v":""}]
[{"$f":"IF(B2=\"\",\"\",RESET!G15)","v":""},{"$f":"Extra!C40","v":""}]
[]
[{"$f":"IF(B2=\"\",\"\",\"     START\")","v":""},{"$f":"IF(B2=\"\",\"\",Extra!D8)","v":""}]
[{"$f":"IF(B2=\"\",\"\",\"     30 min\")","v":""},{"$f":"IF(B2=\"\",\"\",Extra!C41)","v":""}]
[{"$f":"IF(B2=\"\",\"\",\"       5 min\")","v":""},{"$f":"IF(B2=\"\",\"\",Extra!C42)","v":""}]
[{"$f":"IF(B2=\"\",\"\",\"  FINISH\")","v":""},{"$f":"IF(B2=\"\",\"\",Extra!C43)","v":""}]

{"sheet":"P11","index":20,"n_rows":7,"n_cols":2,"rows_kept":7,"cut":false,"hidden":false,"merged":[[0,0,0,1],[2,0,2,1]]}
[{"$f":"IF(B2=\"\",\"\",RESET!C15)","v":""}]
[{"$f":"IF(B2=\"\",\"\",RESET!G15)","v":""},{"$f":"Extra!D40","v":""}]
[]
[{"$f":"IF(B2=\"\",\"\",\"     START\")","v":""},{"$f":"IF(B2=\"\",\"\",Extra!D8)","v":""}]
[{"$f":"IF(B2=\"\",\"\",\"     30 min\")","v":""},{"$f":"IF(B2=\"\",\"\",Extra!D41)","v":""}]
[{"$f":"IF(B2=\"\",\"\",\"       5 min\")","v":""},{"$f":"IF(B2=\"\",\"\",Extra!D42)","v":""}]
[{"$f":"IF(B2=\"\",\"\",\"  FINISH\")","v":""},{"$f":"IF(B2=\"\",\"\",Extra!D43)","v":""}]

{"sheet":"P12","index":21,"n_rows":7,"n_cols":2,"rows_kept":7,"cut":false,"hidden":false,"merged":[[0,0,0,1],[2,0,2,1]]}
[{"$f":"IF(B2=\"\",\"\",RESET!C15)","v":""}]
[{"$f":"IF(B2=\"\",\"\",RESET!G15)","v":""},{"$f":"Extra!E40","v":""}]
[]
[{"$f":"IF(B2=\"\",\"\",\"     START\")","v":""},{"$f":"IF(B2=\"\",\"\",Extra!D8)","v":""}]
[{"$f":"IF(B2=\"\",\"\",\"     30 min\")","v":""},{"$f":"IF(B2=\"\",\"\",Extra!E41)","v":""}]
[{"$f":"IF(B2=\"\",\"\",\"       5 min\")","v":""},{"$f":"IF(B2=\"\",\"\",Extra!E42)","v":""}]
[{"$f":"IF(B2=\"\",\"\",\"  FINISH\")","v":""},{"$f":"IF(B2=\"\",\"\",Extra!E43)","v":""}]

{"sheet":"Ignore1","index":22,"n_rows":29,"n_cols":12,"rows_kept":29,"cut":false,"hidden":true,"merged":[[25,4,25,6],[26,4,26,6],[13,2,13,3],[13,4,13,6],[28,2,28,3],[23,2,23,3],[18,4,18,6],[19,4,19,6],[20,4,20,6],[21,4,21,6],[18,2,18,3],[19,2,19,3],[20,2,20,3],[21,2,21,3],[28,4,28,6],[22,4,22,6],[23,4,23,6],[24,4,24,6],[10,2,10,3],[10,4,10,6],[11,2,11,3],[11,4,11,6],[12,2,12,3],[12,4,12,6],[7,2,7,3],[7,4,7,6],[8,2,8,3],[8,4,8,6],[9,2,9,3],[9,4,9,6],[1,2,1,3],[1,4,1,6],[2,2,2,3],[2,4,2,6],[3,2,3,3],[3,4,3,6],[4,2,4,3],[4,4,4,6],[25,2,25,3],[26,2,26,3],[27,2,27,3],[27,4,27,6],[24,2,24,3],[22,2,22,3],[17,4,17,6],[16,2,16,3],[17,2,17,3],[16,4,16,7],[5,2,5,3],[5,4,5,6],[6,2,6,3],[6,4,6,6]]}
[]
[null,{"$f":"Regular!C9","v":"00:00:00"},"START",null,"All"]
[null,{"$f":"(IF(RESET!K12=TRUE,Regular!C15,24))","v":24},{"$f":"(IF(RESET!K12=TRUE,\"30 min for\",\"\"))","v":""},null,{"$f":"(IF(RESET!K12=TRUE,Regular!B13,\"\"))","v":""},null,null,{"$f":"(IF(RESET!K12=TRUE,Regular!B14,\"\"))","v":""},null,{"$f":"B3+L3/100000","v":24.00001},{"$f":"RANK(J3,$J$3:$J$14,1)","v":1},1]
[null,{"$f":"(IF(RESET!K12=TRUE,Regular!C16,24))","v":24},{"$f":"(IF(RESET!K12=TRUE,\"5 min for\",\"\"))","v":""},null,{"$f":"(IF(RESET!K12=TRUE,Regular!B13,\"\"))","v":""},null,null,{"$f":"(IF(RESET!K12=TRUE,Regular!B14,\"\"))","v":""},null,{"$f":"B4+L4/100000","v":24.000019999999999},2,2]
[null,{"$f":"(IF(RESET!K12=TRUE,Regular!C17,24))","v":24},{"$f":"(IF(RESET!K12=TRUE,\"FINISH for\",\"\"))","v":""},null,{"$f":"(IF(RESET!K12=TRUE,Regular!B13,\"\"))","v":""},null,null,{"$f":"(IF(RESET!K12=TRUE,Regular!B14,\"\"))","v":""},null,24.000029999999999,3,3]
[null,{"$f":"(IF(RESET!K13=TRUE,Regular!C23,24))","v":24},{"$f":"(IF(RESET!K13=TRUE,\"30 min for\",\"\"))","v":""},null,{"$f":"(IF(RESET!K$13=TRUE,Regular!B21,\"\"))","v":""},null,null,{"$f":"(IF(RESET!K13=TRUE,Regular!B22,\"\"))","v":""},null,24.000039999999998,4,4]
[null,{"$f":"(IF(RESET!K13=TRUE,Regular!C24,24))","v":24},{"$f":"(IF(RESET!K13=TRUE,\"5 min for\",\"\"))","v":""},null,{"$f":"(IF(RESET!K$13=TRUE,Regular!B21,\"\"))","v":""},null,null,{"$f":"(IF(RESET!K13=TRUE,Regular!B22,\"\"))","v":""},null,24.000050000000002,5,5]
[null,{"$f":"(IF(RESET!K13=TRUE,Regular!C25,24))","v":24},{"$f":"(IF(RESET!K13=TRUE,\"FINISH for\",\"\"))","v":""},null,{"$f":"(IF(RESET!K13=TRUE,Regular!B21,\"\"))","v":""},null,null,{"$f":"(IF(RESET!K13=TRUE,Regular!B22,\"\"))","v":""},null,24.000060000000001,6,6]
[null,{"$f":"(IF(RESET!K14=TRUE,Regular!C31,24))","v":24},{"$f":"(IF(RESET!K14=TRUE,\"30 min for\",\"\"))","v":""},null,{"$f":"(IF(RESET!K14=TRUE,Regular!B29,\"\"))","v":""},null,null,{"$f":"(IF(RESET!K14=TRUE,Regular!B30,\"\"))","v":""},null,24.000070000000001,7,7]
[null,{"$f":"(IF(RESET!K14=TRUE,Regular!C32,24))","v":24},{"$f":"(IF(RESET!K14=TRUE,\"5 min for\",\"\"))","v":""},null,{"$f":"(IF(RESET!K14=TRUE,Regular!B29,\"\"))","v":""},null,null,{"$f":"(IF(RESET!K14=TRUE,Regular!B30,\"\"))","v":""},null,24.000080000000001,8,8]
[null,{"$f":"(IF(RESET!K14=TRUE,Regular!C33,24))","v":24},{"$f":"(IF(RESET!K14=TRUE,\"FINISH for\",\"\"))","v":""},null,{"$f":"(IF(RESET!K14=TRUE,Regular!B29,\"\"))","v":""},null,null,{"$f":"(IF(RESET!K14=TRUE,Regular!B30,\"\"))","v":""},null,24.00009,9,9]
[null,{"$f":"(IF(RESET!K15=TRUE,Regular!C39,24))","v":24},{"$f":"(IF(RESET!K15=TRUE,\"30 min for\",\"\"))","v":""},null,{"$f":"(IF(RESET!K15=TRUE,Regular!B37,\"\"))","v":""},null,null,{"$f":"(IF(RESET!K15=TRUE,Regular!B38,\"\"))","v":""},null,24.0001,10,10]
[null,{"$f":"(IF(RESET!K15=TRUE,Regular!C40,24))","v":24},{"$f":"(IF(RESET!K15=TRUE,\"5 min for\",\"\"))","v":""},null,{"$f":"(IF(RESET!K15=TRUE,Regular!B37,\"\"))","v":""},null,null,{"$f":"(IF(RESET!K15=TRUE,Regular!B38,\"\"))","v":""},null,24.000109999999999,11,11]
[null,{"$f":"(IF(RESET!K15=TRUE,Regular!C41,24))","v":24},{"$f":"(IF(RESET!K15=TRUE,\"FINISH for\",\"\"))","v":""},null,{"$f":"(IF(RESET!K15=TRUE,Regular!B37,\"\"))","v":""},null,null,{"$f":"(IF(RESET!K15=TRUE,Regular!B38,\"\"))","v":""},null,24.000119999999999,12,12]
[]
[]
[null,{"$f":"Regular!C9","v":"00:00:00"},"START",null,"All"]
[null,{"$f":"IF($K$3=$L3,B$3,IF($K$4=$L3,B$4,IF($K$5=$L3,B$5,IF($K$6=$L3,B$6,IF($K$7=$L3,B$7,IF($K$8=$L3,B$8,IF($K$9=$L3,B$9,IF($K$10=$L3,B$10,IF($K$11=$L3,B$11,IF($K$12=$L3,B$12,IF($K$13=$L3,B$13,B$14)))))))))))","v":24},"",null,{"$f":"IF($K$3=$L3,E$3,IF($K$4=$L3,E$4,IF($K$5=$L3,E$5,IF($K$6=$L3,E$6,IF($K$7=$L3,E$7,IF($K$8=$L3,E$8,IF($K$9=$L3,E$9,IF($K$10=$L3,E$10,IF($K$11=$L3,E$11,IF($K$12=$L3,E$12,IF($K$13=$L3,E$13,E$14)))))))))))","v":""},{"$f":"IF(Ignore1!$K$3=Ignore1!$L3,Ignore1!F$3,IF(Ignore1!$K$4=Ignore1!$L3,Ignore1!F$4,IF(Ignore1!$K$5=Ignore1!$L3,Ignore1!F$5,IF(Ignore1!$K$6=Ignore1!$L3,Ignore1!F$6,IF(Ignore1!$K$7=Ignore1!$L3,Ignore1!F$7,IF(Ignore1!$K$8=Ignore1!$L3,Ignore1!F$8,IF(Ignore1!$K$9=Ignore1!$L3,Ignore1!F$9,IF(Ignore1!$K$10=Ignore1!$L3,Ignore1!F$10,IF(Ignore1!$K$11=Ignore1!$L3,Ignore1!F$11,IF(Ignore1!$K$12=Ignore1!$L3,Ignore1!F$12,IF(Ignore1!$K$13=Ignore1!$L3,Ignore1!F$13,Ignore1!F$14)))))))))))","v":0},{"$f":"IF(Ignore1!$K$3=Ignore1!$L3,Ignore1!G$3,IF(Ignore1!$K$4=Ignore1!$L3,Ignore1!G$4,IF(Ignore1!$K$5=Ignore1!$L3,Ignore1!G$5,IF(Ignore1!$K$6=Ignore1!$L3,Ignore1!G$6,IF(Ignore1!$K$7=Ignore1!$L3,Ignore1!G$7,IF(Ignore1!$K$8=Ignore1!$L3,Ignore1!G$8,IF(Ignore1!$K$9=Ignore1!$L3,Ignore1!G$9,IF(Ignore1!$K$10=Ignore1!$L3,Ignore1!G$10,IF(Ignore1!$K$11=Ignore1!$L3,Ignore1!G$11,IF(Ignore1!$K$12=Ignore1!$L3,Ignore1!G$12,IF(Ignore1!$K$13=Ignore1!$L3,Ignore1!G$13,Ignore1!G$14)))))))))))","v":0},{"$f":"IF($K$3=$L3,H$3,IF($K$4=$L3,H$4,IF($K$5=$L3,H$5,IF($K$6=$L3,H$6,IF($K$7=$L3,H$7,IF($K$8=$L3,H$8,IF($K$9=$L3,H$9,IF($K$10=$L3,H$10,IF($K$11=$L3,H$11,IF($K$12=$L3,H$12,IF($K$13=$L3,H$13,H$14)))))))))))","v":""}]
[null,24,"",null,"",{"$f":"IF(Ignore1!$K$3=Ignore1!$L4,Ignore1!F$3,IF(Ignore1!$K$4=Ignore1!$L4,Ignore1!F$4,IF(Ignore1!$K$5=Ignore1!$L4,Ignore1!F$5,IF(Ignore1!$K$6=Ignore1!$L4,Ignore1!F$6,IF(Ignore1!$K$7=Ignore1!$L4,Ignore1!F$7,IF(Ignore1!$K$8=Ignore1!$L4,Ignore1!F$8,IF(Ignore1!$K$9=Ignore1!$L4,Ignore1!F$9,IF(Ignore1!$K$10=Ignore1!$L4,Ignore1!F$10,IF(Ignore1!$K$11=Ignore1!$L4,Ignore1!F$11,IF(Ignore1!$K$12=Ignore1!$L4,Ignore1!F$12,IF(Ignore1!$K$13=Ignore1!$L4,Ignore1!F$13,Ignore1!F$14)))))))))))","v":0},{"$f":"IF(Ignore1!$K$3=Ignore1!$L4,Ignore1!G$3,IF(Ignore1!$K$4=Ignore1!$L4,Ignore1!G$4,IF(Ignore1!$K$5=Ignore1!$L4,Ignore1!G$5,IF(Ignore1!$K$6=Ignore1!$L4,Ignore1!G$6,IF(Ignore1!$K$7=Ignore1!$L4,Ignore1!G$7,IF(Ignore1!$K$8=Ignore1!$L4,Ignore1!G$8,IF(Ignore1!$K$9=Ignore1!$L4,Ignore1!G$9,IF(Ignore1!$K$10=Ignore1!$L4,Ignore1!G$10,IF(Ignore1!$K$11=Ignore1!$L4,Ignore1!G$11,IF(Ignore1!$K$12=Ignore1!$L4,Ignore1!G$12,IF(Ignore1!$K$13=Ignore1!$L4,Ignore1!G$13,Ignore1!G$14)))))))))))","v":0},""]
[null,24,"",null,"",{"$f":"IF(Ignore1!$K$3=Ignore1!$L5,Ignore1!F$3,IF(Ignore1!$K$4=Ignore1!$L5,Ignore1!F$4,IF(Ignore1!$K$5=Ignore1!$L5,Ignore1!F$5,IF(Ignore1!$K$6=Ignore1!$L5,Ignore1!F$6,IF(Ignore1!$K$7=Ignore1!$L5,Ignore1!F$7,IF(Ignore1!$K$8=Ignore1!$L5,Ignore1!F$8,IF(Ignore1!$K$9=Ignore1!$L5,Ignore1!F$9,IF(Ignore1!$K$10=Ignore1!$L5,Ignore1!F$10,IF(Ignore1!$K$11=Ignore1!$L5,Ignore1!F$11,IF(Ignore1!$K$12=Ignore1!$L5,Ignore1!F$12,IF(Ignore1!$K$13=Ignore1!$L5,Ignore1!F$13,Ignore1!F$14)))))))))))","v":0},{"$f":"IF(Ignore1!$K$3=Ignore1!$L5,Ignore1!G$3,IF(Ignore1!$K$4=Ignore1!$L5,Ignore1!G$4,IF(Ignore1!$K$5=Ignore1!$L5,Ignore1!G$5,IF(Ignore1!$K$6=Ignore1!$L5,Ignore1!G$6,IF(Ignore1!$K$7=Ignore1!$L5,Ignore1!G$7,IF(Ignore1!$K$8=Ignore1!$L5,Ignore1!G$8,IF(Ignore1!$K$9=Ignore1!$L5,Ignore1!G$9,IF(Ignore1!$K$10=Ignore1!$L5,Ignore1!G$10,IF(Ignore1!$K$11=Ignore1!$L5,Ignore1!G$11,IF(Ignore1!$K$12=Ignore1!$L5,Ignore1!G$12,IF(Ignore1!$K$13=Ignore1!$L5,Ignore1!G$13,Ignore1!G$14)))))))))))","v":0},""]
[null,24,"",null,"",{"$f":"IF(Ignore1!$K$3=Ignore1!$L6,Ignore1!F$3,IF(Ignore1!$K$4=Ignore1!$L6,Ignore1!F$4,IF(Ignore1!$K$5=Ignore1!$L6,Ignore1!F$5,IF(Ignore1!$K$6=Ignore1!$L6,Ignore1!F$6,IF(Ignore1!$K$7=Ignore1!$L6,Ignore1!F$7,IF(Ignore1!$K$8=Ignore1!$L6,Ignore1!F$8,IF(Ignore1!$K$9=Ignore1!$L6,Ignore1!F$9,IF(Ignore1!$K$10=Ignore1!$L6,Ignore1!F$10,IF(Ignore1!$K$11=Ignore1!$L6,Ignore1!F$11,IF(Ignore1!$K$12=Ignore1!$L6,Ignore1!F$12,IF(Ignore1!$K$13=Ignore1!$L6,Ignore1!F$13,Ignore1!F$14)))))))))))","v":0},{"$f":"IF(Ignore1!$K$3=Ignore1!$L6,Ignore1!G$3,IF(Ignore1!$K$4=Ignore1!$L6,Ignore1!G$4,IF(Ignore1!$K$5=Ignore1!$L6,Ignore1!G$5,IF(Ignore1!$K$6=Ignore1!$L6,Ignore1!G$6,IF(Ignore1!$K$7=Ignore1!$L6,Ignore1!G$7,IF(Ignore1!$K$8=Ignore1!$L6,Ignore1!G$8,IF(Ignore1!$K$9=Ignore1!$L6,Ignore1!G$9,IF(Ignore1!$K$10=Ignore1!$L6,Ignore1!G$10,IF(Ignore1!$K$11=Ignore1!$L6,Ignore1!G$11,IF(Ignore1!$K$12=Ignore1!$L6,Ignore1!G$12,IF(Ignore1!$K$13=Ignore1!$L6,Ignore1!G$13,Ignore1!G$14)))))))))))","v":0},""]
[null,24,"",null,"",{"$f":"IF(Ignore1!$K$3=Ignore1!$L7,Ignore1!F$3,IF(Ignore1!$K$4=Ignore1!$L7,Ignore1!F$4,IF(Ignore1!$K$5=Ignore1!$L7,Ignore1!F$5,IF(Ignore1!$K$6=Ignore1!$L7,Ignore1!F$6,IF(Ignore1!$K$7=Ignore1!$L7,Ignore1!F$7,IF(Ignore1!$K$8=Ignore1!$L7,Ignore1!F$8,IF(Ignore1!$K$9=Ignore1!$L7,Ignore1!F$9,IF(Ignore1!$K$10=Ignore1!$L7,Ignore1!F$10,IF(Ignore1!$K$11=Ignore1!$L7,Ignore1!F$11,IF(Ignore1!$K$12=Ignore1!$L7,Ignore1!F$12,IF(Ignore1!$K$13=Ignore1!$L7,Ignore1!F$13,Ignore1!F$14)))))))))))","v":0},{"$f":"IF(Ignore1!$K$3=Ignore1!$L7,Ignore1!G$3,IF(Ignore1!$K$4=Ignore1!$L7,Ignore1!G$4,IF(Ignore1!$K$5=Ignore1!$L7,Ignore1!G$5,IF(Ignore1!$K$6=Ignore1!$L7,Ignore1!G$6,IF(Ignore1!$K$7=Ignore1!$L7,Ignore1!G$7,IF(Ignore1!$K$8=Ignore1!$L7,Ignore1!G$8,IF(Ignore1!$K$9=Ignore1!$L7,Ignore1!G$9,IF(Ignore1!$K$10=Ignore1!$L7,Ignore1!G$10,IF(Ignore1!$K$11=Ignore1!$L7,Ignore1!G$11,IF(Ignore1!$K$12=Ignore1!$L7,Ignore1!G$12,IF(Ignore1!$K$13=Ignore1!$L7,Ignore1!G$13,Ignore1!G$14)))))))))))","v":0},""]
[null,24,"",null,"",{"$f":"IF(Ignore1!$K$3=Ignore1!$L8,Ignore1!F$3,IF(Ignore1!$K$4=Ignore1!$L8,Ignore1!F$4,IF(Ignore1!$K$5=Ignore1!$L8,Ignore1!F$5,IF(Ignore1!$K$6=Ignore1!$L8,Ignore1!F$6,IF(Ignore1!$K$7=Ignore1!$L8,Ignore1!F$7,IF(Ignore1!$K$8=Ignore1!$L8,Ignore1!F$8,IF(Ignore1!$K$9=Ignore1!$L8,Ignore1!F$9,IF(Ignore1!$K$10=Ignore1!$L8,Ignore1!F$10,IF(Ignore1!$K$11=Ignore1!$L8,Ignore1!F$11,IF(Ignore1!$K$12=Ignore1!$L8,Ignore1!F$12,IF(Ignore1!$K$13=Ignore1!$L8,Ignore1!F$13,Ignore1!F$14)))))))))))","v":0},{"$f":"IF(Ignore1!$K$3=Ignore1!$L8,Ignore1!G$3,IF(Ignore1!$K$4=Ignore1!$L8,Ignore1!G$4,IF(Ignore1!$K$5=Ignore1!$L8,Ignore1!G$5,IF(Ignore1!$K$6=Ignore1!$L8,Ignore1!G$6,IF(Ignore1!$K$7=Ignore1!$L8,Ignore1!G$7,IF(Ignore1!$K$8=Ignore1!$L8,Ignore1!G$8,IF(Ignore1!$K$9=Ignore1!$L8,Ignore1!G$9,IF(Ignore1!$K$10=Ignore1!$L8,Ignore1!G$10,IF(Ignore1!$K$11=Ignore1!$L8,Ignore1!G$11,IF(Ignore1!$K$12=Ignore1!$L8,Ignore1!G$12,IF(Ignore1!$K$13=Ignore1!$L8,Ignore1!G$13,Ignore1!G$14)))))))))))","v":0},""]
[null,24,"",null,"",{"$f":"IF(Ignore1!$K$3=Ignore1!$L9,Ignore1!F$3,IF(Ignore1!$K$4=Ignore1!$L9,Ignore1!F$4,IF(Ignore1!$K$5=Ignore1!$L9,Ignore1!F$5,IF(Ignore1!$K$6=Ignore1!$L9,Ignore1!F$6,IF(Ignore1!$K$7=Ignore1!$L9,Ignore1!F$7,IF(Ignore1!$K$8=Ignore1!$L9,Ignore1!F$8,IF(Ignore1!$K$9=Ignore1!$L9,Ignore1!F$9,IF(Ignore1!$K$10=Ignore1!$L9,Ignore1!F$10,IF(Ignore1!$K$11=Ignore1!$L9,Ignore1!F$11,IF(Ignore1!$K$12=Ignore1!$L9,Ignore1!F$12,IF(Ignore1!$K$13=Ignore1!$L9,Ignore1!F$13,Ignore1!F$14)))))))))))","v":0},{"$f":"IF(Ignore1!$K$3=Ignore1!$L9,Ignore1!G$3,IF(Ignore1!$K$4=Ignore1!$L9,Ignore1!G$4,IF(Ignore1!$K$5=Ignore1!$L9,Ignore1!G$5,IF(Ignore1!$K$6=Ignore1!$L9,Ignore1!G$6,IF(Ignore1!$K$7=Ignore1!$L9,Ignore1!G$7,IF(Ignore1!$K$8=Ignore1!$L9,Ignore1!G$8,IF(Ignore1!$K$9=Ignore1!$L9,Ignore1!G$9,IF(Ignore1!$K$10=Ignore1!$L9,Ignore1!G$10,IF(Ignore1!$K$11=Ignore1!$L9,Ignore1!G$11,IF(Ignore1!$K$12=Ignore1!$L9,Ignore1!G$12,IF(Ignore1!$K$13=Ignore1!$L9,Ignore1!G$13,Ignore1!G$14)))))))))))","v":0},""]
[null,24,"",null,"",{"$f":"IF(Ignore1!$K$3=Ignore1!$L10,Ignore1!F$3,IF(Ignore1!$K$4=Ignore1!$L10,Ignore1!F$4,IF(Ignore1!$K$5=Ignore1!$L10,Ignore1!F$5,IF(Ignore1!$K$6=Ignore1!$L10,Ignore1!F$6,IF(Ignore1!$K$7=Ignore1!$L10,Ignore1!F$7,IF(Ignore1!$K$8=Ignore1!$L10,Ignore1!F$8,IF(Ignore1!$K$9=Ignore1!$L10,Ignore1!F$9,IF(Ignore1!$K$10=Ignore1!$L10,Ignore1!F$10,IF(Ignore1!$K$11=Ignore1!$L10,Ignore1!F$11,IF(Ignore1!$K$12=Ignore1!$L10,Ignore1!F$12,IF(Ignore1!$K$13=Ignore1!$L10,Ignore1!F$13,Ignore1!F$14)))))))))))","v":0},{"$f":"IF(Ignore1!$K$3=Ignore1!$L10,Ignore1!G$3,IF(Ignore1!$K$4=Ignore1!$L10,Ignore1!G$4,IF(Ignore1!$K$5=Ignore1!$L10,Ignore1!G$5,IF(Ignore1!$K$6=Ignore1!$L10,Ignore1!G$6,IF(Ignore1!$K$7=Ignore1!$L10,Ignore1!G$7,IF(Ignore1!$K$8=Ignore1!$L10,Ignore1!G$8,IF(Ignore1!$K$9=Ignore1!$L10,Ignore1!G$9,IF(Ignore1!$K$10=Ignore1!$L10,Ignore1!G$10,IF(Ignore1!$K$11=Ignore1!$L10,Ignore1!G$11,IF(Ignore1!$K$12=Ignore1!$L10,Ignore1!G$12,IF(Ignore1!$K$13=Ignore1!$L10,Ignore1!G$13,Ignore1!G$14)))))))))))","v":0},""]
[null,24,"",null,"",{"$f":"IF(Ignore1!$K$3=Ignore1!$L11,Ignore1!F$3,IF(Ignore1!$K$4=Ignore1!$L11,Ignore1!F$4,IF(Ignore1!$K$5=Ignore1!$L11,Ignore1!F$5,IF(Ignore1!$K$6=Ignore1!$L11,Ignore1!F$6,IF(Ignore1!$K$7=Ignore1!$L11,Ignore1!F$7,IF(Ignore1!$K$8=Ignore1!$L11,Ignore1!F$8,IF(Ignore1!$K$9=Ignore1!$L11,Ignore1!F$9,IF(Ignore1!$K$10=Ignore1!$L11,Ignore1!F$10,IF(Ignore1!$K$11=Ignore1!$L11,Ignore1!F$11,IF(Ignore1!$K$12=Ignore1!$L11,Ignore1!F$12,IF(Ignore1!$K$13=Ignore1!$L11,Ignore1!F$13,Ignore1!F$14)))))))))))","v":0},{"$f":"IF(Ignore1!$K$3=Ignore1!$L11,Ignore1!G$3,IF(Ignore1!$K$4=Ignore1!$L11,Ignore1!G$4,IF(Ignore1!$K$5=Ignore1!$L11,Ignore1!G$5,IF(Ignore1!$K$6=Ignore1!$L11,Ignore1!G$6,IF(Ignore1!$K$7=Ignore1!$L11,Ignore1!G$7,IF(Ignore1!$K$8=Ignore1!$L11,Ignore1!G$8,IF(Ignore1!$K$9=Ignore1!$L11,Ignore1!G$9,IF(Ignore1!$K$10=Ignore1!$L11,Ignore1!G$10,IF(Ignore1!$K$11=Ignore1!$L11,Ignore1!G$11,IF(Ignore1!$K$12=Ignore1!$L11,Ignore1!G$12,IF(Ignore1!$K$13=Ignore1!$L11,Ignore1!G$13,Ignore1!G$14)))))))))))","v":0},""]
[null,24,"",null,"",{"$f":"IF(Ignore1!$K$3=Ignore1!$L12,Ignore1!F$3,IF(Ignore1!$K$4=Ignore1!$L12,Ignore1!F$4,IF(Ignore1!$K$5=Ignore1!$L12,Ignore1!F$5,IF(Ignore1!$K$6=Ignore1!$L12,Ignore1!F$6,IF(Ignore1!$K$7=Ignore1!$L12,Ignore1!F$7,IF(Ignore1!$K$8=Ignore1!$L12,Ignore1!F$8,IF(Ignore1!$K$9=Ignore1!$L12,Ignore1!F$9,IF(Ignore1!$K$10=Ignore1!$L12,Ignore1!F$10,IF(Ignore1!$K$11=Ignore1!$L12,Ignore1!F$11,IF(Ignore1!$K$12=Ignore1!$L12,Ignore1!F$12,IF(Ignore1!$K$13=Ignore1!$L12,Ignore1!F$13,Ignore1!F$14)))))))))))","v":0},{"$f":"IF(Ignore1!$K$3=Ignore1!$L12,Ignore1!G$3,IF(Ignore1!$K$4=Ignore1!$L12,Ignore1!G$4,IF(Ignore1!$K$5=Ignore1!$L12,Ignore1!G$5,IF(Ignore1!$K$6=Ignore1!$L12,Ignore1!G$6,IF(Ignore1!$K$7=Ignore1!$L12,Ignore1!G$7,IF(Ignore1!$K$8=Ignore1!$L12,Ignore1!G$8,IF(Ignore1!$K$9=Ignore1!$L12,Ignore1!G$9,IF(Ignore1!$K$10=Ignore1!$L12,Ignore1!G$10,IF(Ignore1!$K$11=Ignore1!$L12,Ignore1!G$11,IF(Ignore1!$K$12=Ignore1!$L12,Ignore1!G$12,IF(Ignore1!$K$13=Ignore1!$L12,Ignore1!G$13,Ignore1!G$14)))))))))))","v":0},""]
[null,24,"",null,"",{"$f":"IF(Ignore1!$K$3=Ignore1!$L13,Ignore1!F$3,IF(Ignore1!$K$4=Ignore1!$L13,Ignore1!F$4,IF(Ignore1!$K$5=Ignore1!$L13,Ignore1!F$5,IF(Ignore1!$K$6=Ignore1!$L13,Ignore1!F$6,IF(Ignore1!$K$7=Ignore1!$L13,Ignore1!F$7,IF(Ignore1!$K$8=Ignore1!$L13,Ignore1!F$8,IF(Ignore1!$K$9=Ignore1!$L13,Ignore1!F$9,IF(Ignore1!$K$10=Ignore1!$L13,Ignore1!F$10,IF(Ignore1!$K$11=Ignore1!$L13,Ignore1!F$11,IF(Ignore1!$K$12=Ignore1!$L13,Ignore1!F$12,IF(Ignore1!$K$13=Ignore1!$L13,Ignore1!F$13,Ignore1!F$14)))))))))))","v":0},{"$f":"IF(Ignore1!$K$3=Ignore1!$L13,Ignore1!G$3,IF(Ignore1!$K$4=Ignore1!$L13,Ignore1!G$4,IF(Ignore1!$K$5=Ignore1!$L13,Ignore1!G$5,IF(Ignore1!$K$6=Ignore1!$L13,Ignore1!G$6,IF(Ignore1!$K$7=Ignore1!$L13,Ignore1!G$7,IF(Ignore1!$K$8=Ignore1!$L13,Ignore1!G$8,IF(Ignore1!$K$9=Ignore1!$L13,Ignore1!G$9,IF(Ignore1!$K$10=Ignore1!$L13,Ignore1!G$10,IF(Ignore1!$K$11=Ignore1!$L13,Ignore1!G$11,IF(Ignore1!$K$12=Ignore1!$L13,Ignore1!G$12,IF(Ignore1!$K$13=Ignore1!$L13,Ignore1!G$13,Ignore1!G$14)))))))))))","v":0},""]
[null,24,"",null,"",{"$f":"IF(Ignore1!$K$3=Ignore1!$L14,Ignore1!F$3,IF(Ignore1!$K$4=Ignore1!$L14,Ignore1!F$4,IF(Ignore1!$K$5=Ignore1!$L14,Ignore1!F$5,IF(Ignore1!$K$6=Ignore1!$L14,Ignore1!F$6,IF(Ignore1!$K$7=Ignore1!$L14,Ignore1!F$7,IF(Ignore1!$K$8=Ignore1!$L14,Ignore1!F$8,IF(Ignore1!$K$9=Ignore1!$L14,Ignore1!F$9,IF(Ignore1!$K$10=Ignore1!$L14,Ignore1!F$10,IF(Ignore1!$K$11=Ignore1!$L14,Ignore1!F$11,IF(Ignore1!$K$12=Ignore1!$L14,Ignore1!F$12,IF(Ignore1!$K$13=Ignore1!$L14,Ignore1!F$13,Ignore1!F$14)))))))))))","v":0},{"$f":"IF(Ignore1!$K$3=Ignore1!$L14,Ignore1!G$3,IF(Ignore1!$K$4=Ignore1!$L14,Ignore1!G$4,IF(Ignore1!$K$5=Ignore1!$L14,Ignore1!G$5,IF(Ignore1!$K$6=Ignore1!$L14,Ignore1!G$6,IF(Ignore1!$K$7=Ignore1!$L14,Ignore1!G$7,IF(Ignore1!$K$8=Ignore1!$L14,Ignore1!G$8,IF(Ignore1!$K$9=Ignore1!$L14,Ignore1!G$9,IF(Ignore1!$K$10=Ignore1!$L14,Ignore1!G$10,IF(Ignore1!$K$11=Ignore1!$L14,Ignore1!G$11,IF(Ignore1!$K$12=Ignore1!$L14,Ignore1!G$12,IF(Ignore1!$K$13=Ignore1!$L14,Ignore1!G$13,Ignore1!G$14)))))))))))","v":0},""]

{"sheet":"Ignore2","index":23,"n_rows":80,"n_cols":10,"rows_kept":80,"cut":false,"hidden":true,"merged":[[1,3,1,4]]}
[]
[null,{"$f":"Regular!C9","v":"00:00:00"},"START","All"]
[null,{"$f":"(IF(RESET!L12=TRUE,Extra!C14,24))","v":24},{"$f":"(IF(RESET!L12=TRUE,\"30 min for 10%\",\"\"))","v":""},{"$f":"(IF(RESET!L12=TRUE,Regular!B13,\"\"))","v":""},{"$f":"(IF(RESET!L12=TRUE,Regular!B14,\"\"))","v":""},null,null,{"$f":"B3+J3/100000","v":24.00001},{"$f":"RANK(H3,$H$3:$H$38,1)","v":1},1]
[null,{"$f":"(IF(RESET!L12=TRUE,Extra!C15,24))","v":24},{"$f":"(IF(RESET!L12=TRUE,\"5 min for 10%\",\"\"))","v":""},{"$f":"(IF(RESET!L12=TRUE,Regular!B13,\"\"))","v":""},{"$f":"(IF(RESET!L12=TRUE,Regular!B14,\"\"))","v":""},null,null,{"$f":"B4+J4/100000","v":24.000019999999999},2,2]
[null,{"$f":"(IF(RESET!L12=TRUE,Extra!C16,24))","v":24},{"$f":"(IF(RESET!L12=TRUE,\"FINISH for 10%\",\"\"))","v":""},{"$f":"(IF(RESET!L12=TRUE,Regular!B13,\"\"))","v":""},{"$f":"(IF(RESET!L12=TRUE,Regular!B14,\"\"))","v":""},null,null,24.000029999999999,3,3]
[null,{"$f":"(IF(RESET!M12=TRUE,Extra!D14,24))","v":24},{"$f":"(IF(RESET!M12=TRUE,\"30 min for 25%\",\"\"))","v":""},{"$f":"(IF(RESET!M12=TRUE,Regular!B13,\"\"))","v":""},{"$f":"(IF(RESET!M12=TRUE,Regular!B14,\"\"))","v":""},null,null,24.000039999999998,4,4]
[null,{"$f":"(IF(RESET!M12=TRUE,Extra!D15,24))","v":24},{"$f":"(IF(RESET!M12=TRUE,\"5 min for 25%\",\"\"))","v":""},{"$f":"(IF(RESET!M12=TRUE,Regular!B13,\"\"))","v":""},{"$f":"(IF(RESET!M12=TRUE,Regular!B14,\"\"))","v":""},null,null,24.000050000000002,5,5]
[null,{"$f":"(IF(RESET!M12=TRUE,Extra!D16,24))","v":24},{"$f":"(IF(RESET!M12=TRUE,\"FINISH for 25%\",\"\"))","v":""},{"$f":"(IF(RESET!M12=TRUE,Regular!B13,\"\"))","v":""},{"$f":"(IF(RESET!M12=TRUE,Regular!B14,\"\"))","v":""},null,null,24.000060000000001,6,6]
[null,{"$f":"(IF(RESET!N12=TRUE,Extra!E14,24))","v":24},{"$f":"(IF(RESET!N12=TRUE,\"30 min for 50%\",\"\"))","v":""},{"$f":"(IF(RESET!N12=TRUE,Regular!B13,\"\"))","v":""},{"$f":"(IF(RESET!N12=TRUE,Regular!B14,\"\"))","v":""},null,null,24.000070000000001,7,7]
[null,{"$f":"(IF(RESET!N12=TRUE,Extra!E15,24))","v":24},{"$f":"(IF(RESET!N12=TRUE,\"5 min for 50%\",\"\"))","v":""},{"$f":"(IF(RESET!N12=TRUE,Regular!B13,\"\"))","v":""},{"$f":"(IF(RESET!N12=TRUE,Regular!B14,\"\"))","v":""},null,null,24.000080000000001,8,8]
[null,{"$f":"(IF(RESET!N12=TRUE,Extra!E16,24))","v":24},{"$f":"(IF(RESET!N12=TRUE,\"FINISH for 50%\",\"\"))","v":""},{"$f":"(IF(RESET!N12=TRUE,Regular!B13,\"\"))","v":""},{"$f":"(IF(RESET!N12=TRUE,Regular!B14,\"\"))","v":""},null,null,24.00009,9,9]
[null,{"$f":"(IF(RESET!L13=TRUE,Extra!C23,24))","v":24},{"$f":"(IF(RESET!L13=TRUE,\"30 min for 10%\",\"\"))","v":""},{"$f":"(IF(RESET!L13=TRUE,Regular!B21,\"\"))","v":""},{"$f":"(IF(RESET!L13=TRUE,Regular!B22,\"\"))","v":""},null,null,24.0001,10,10]
[null,{"$f":"(IF(RESET!L13=TRUE,Extra!C24,24))","v":24},{"$f":"(IF(RESET!L13=TRUE,\"5 min for 10%\",\"\"))","v":""},{"$f":"(IF(RESET!L13=TRUE,Regular!B21,\"\"))","v":""},{"$f":"(IF(RESET!L13=TRUE,Regular!B22,\"\"))","v":""},null,null,24.000109999999999,11,11]
[null,{"$f":"(IF(RESET!L13=TRUE,Extra!C25,24))","v":24},{"$f":"(IF(RESET!L13=TRUE,\"FINISH for 10%\",\"\"))","v":""},{"$f":"(IF(RESET!L13=TRUE,Regular!B21,\"\"))","v":""},{"$f":"(IF(RESET!L13=TRUE,Regular!B22,\"\"))","v":""},null,null,24.000119999999999,12,12]
[null,{"$f":"(IF(RESET!M13=TRUE,Extra!D23,24))","v":24},{"$f":"(IF(RESET!M13=TRUE,\"30 min for 25%\",\"\"))","v":""},{"$f":"(IF(RESET!M13=TRUE,Regular!B21,\"\"))","v":""},{"$f":"(IF(RESET!M13=TRUE,Regular!B22,\"\"))","v":""},null,null,24.000129999999999,{"$f":"RANK(H15,$H$3:$H$38,1)","v":13},13]
[null,{"$f":"(IF(RESET!M13=TRUE,Extra!D24,24))","v":24},{"$f":"(IF(RESET!M13=TRUE,\"5 min for 25%\",\"\"))","v":""},{"$f":"(IF(RESET!M13=TRUE,Regular!B21,\"\"))","v":""},{"$f":"(IF(RESET!M13=TRUE,Regular!B22,\"\"))","v":""},null,null,24.000139999999998,14,14]
[null,{"$f":"(IF(RESET!M13=TRUE,Extra!D25,24))","v":24},{"$f":"(IF(RESET!M13=TRUE,\"FINISH for 25%\",\"\"))","v":""},{"$f":"(IF(RESET!M13=TRUE,Regular!B21,\"\"))","v":""},{"$f":"(IF(RESET!M13=TRUE,Regular!B22,\"\"))","v":""},null,null,24.000150000000001,15,15]
[null,{"$f":"(IF(RESET!N13=TRUE,Extra!E23,24))","v":24},{"$f":"(IF(RESET!N13=TRUE,\"30 min for 50%\",\"\"))","v":""},{"$f":"(IF(RESET!N13=TRUE,Regular!B21,\"\"))","v":""},{"$f":"(IF(RESET!N13=TRUE,Regular!B22,\"\"))","v":""},null,null,24.000160000000001,16,16]
[null,{"$f":"(IF(RESET!N13=TRUE,Extra!E24,24))","v":24},{"$f":"(IF(RESET!N13=TRUE,\"5 min for 50%\",\"\"))","v":""},{"$f":"(IF(RESET!N13=TRUE,Regular!B21,\"\"))","v":""},{"$f":"(IF(RESET!N13=TRUE,Regular!B22,\"\"))","v":""},null,null,24.000170000000001,17,17]
[null,{"$f":"(IF(RESET!N13=TRUE,Extra!E25,24))","v":24},{"$f":"(IF(RESET!N13=TRUE,\"FINISH for 50%\",\"\"))","v":""},{"$f":"(IF(RESET!N13=TRUE,Regular!B21,\"\"))","v":""},{"$f":"(IF(RESET!N13=TRUE,Regular!B22,\"\"))","v":""},null,null,24.00018,18,18]
[null,{"$f":"(IF(RESET!L14=TRUE,Extra!C32,24))","v":24},{"$f":"(IF(RESET!L14=TRUE,\"30 min for 10%\",\"\"))","v":""},{"$f":"(IF(RESET!L14=TRUE,Regular!B29,\"\"))","v":""},{"$f":"(IF(RESET!L14=TRUE,Regular!B30,\"\"))","v":""},null,null,24.00019,19,19]
[null,{"$f":"(IF(RESET!L14=TRUE,Extra!C33,24))","v":24},{"$f":"(IF(RESET!L14=TRUE,\"5 min for 10%\",\"\"))","v":""},{"$f":"(IF(RESET!L14=TRUE,Regular!B29,\"\"))","v":""},{"$f":"(IF(RESET!L14=TRUE,Regular!B30,\"\"))","v":""},null,null,24.0002,20,20]
[null,{"$f":"(IF(RESET!L14=TRUE,Extra!C34,24))","v":24},{"$f":"(IF(RESET!L14=TRUE,\"FINISH for 10%\",\"\"))","v":""},{"$f":"(IF(RESET!L14=TRUE,Regular!B29,\"\"))","v":""},{"$f":"(IF(RESET!L14=TRUE,Regular!B30,\"\"))","v":""},null,null,24.000209999999999,21,21]
[null,{"$f":"(IF(RESET!M14=TRUE,Extra!D32,24))","v":24},{"$f":"(IF(RESET!M14=TRUE,\"30 min for 25%\",\"\"))","v":""},{"$f":"(IF(RESET!M14=TRUE,Regular!B29,\"\"))","v":""},{"$f":"(IF(RESET!M14=TRUE,Regular!B30,\"\"))","v":""},null,null,24.000219999999999,22,22]
[null,{"$f":"(IF(RESET!M14=TRUE,Extra!D33,24))","v":24},{"$f":"(IF(RESET!M14=TRUE,\"5 min for 25%\",\"\"))","v":""},{"$f":"(IF(RESET!M14=TRUE,Regular!B29,\"\"))","v":""},{"$f":"(IF(RESET!M14=TRUE,Regular!B30,\"\"))","v":""},null,null,24.000229999999998,23,23]
[null,{"$f":"(IF(RESET!M14=TRUE,Extra!D34,24))","v":24},{"$f":"(IF(RESET!M14=TRUE,\"FINISH for 25%\",\"\"))","v":""},{"$f":"(IF(RESET!M14=TRUE,Regular!B29,\"\"))","v":""},{"$f":"(IF(RESET!M14=TRUE,Regular!B30,\"\"))","v":""},null,null,24.000240000000002,24,24]
[null,{"$f":"(IF(RESET!N14=TRUE,Extra!E32,24))","v":24},{"$f":"(IF(RESET!N14=TRUE,\"30 min for 50%\",\"\"))","v":""},{"$f":"(IF(RESET!N14=TRUE,Regular!B29,\"\"))","v":""},{"$f":"(IF(RESET!N14=TRUE,Regular!B30,\"\"))","v":""},null,null,24.000250000000001,25,25]
[null,{"$f":"(IF(RESET!N14=TRUE,Extra!E33,24))","v":24},{"$f":"(IF(RESET!N14=TRUE,\"5 min for 50%\",\"\"))","v":""},{"$f":"(IF(RESET!N14=TRUE,Regular!B29,\"\"))","v":""},{"$f":"(IF(RESET!N14=TRUE,Regular!B30,\"\"))","v":""},null,null,24.000260000000001,26,26]
[null,{"$f":"(IF(RESET!N14=TRUE,Extra!E34,24))","v":24},{"$f":"(IF(RESET!N14=TRUE,\"FINISH for 50%\",\"\"))","v":""},{"$f":"(IF(RESET!N14=TRUE,Regular!B29,\"\"))","v":""},{"$f":"(IF(RESET!N14=TRUE,Regular!B30,\"\"))","v":""},null,null,24.00027,27,27]
[null,{"$f":"(IF(RESET!L15=TRUE,Extra!C41,24))","v":24},{"$f":"(IF(RESET!L15=TRUE,\"30 min for 10%\",\"\"))","v":""},{"$f":"(IF(RESET!L15=TRUE,Regular!B37,\"\"))","v":""},{"$f":"(IF(RESET!L15=TRUE,Regular!B38,\"\"))","v":""},null,null,24.00028,28,28]
[null,{"$f":"(IF(RESET!L15=TRUE,Extra!C42,24))","v":24},{"$f":"(IF(RESET!L15=TRUE,\"5 min for 10%\",\"\"))","v":""},{"$f":"(IF(RESET!L15=TRUE,Regular!B37,\"\"))","v":""},{"$f":"(IF(RESET!L15=TRUE,Regular!B38,\"\"))","v":""},null,null,24.00029,29,29]
[null,{"$f":"(IF(RESET!L15=TRUE,Extra!C43,24))","v":24},{"$f":"(IF(RESET!L15=TRUE,\"FINISH for 10%\",\"\"))","v":""},{"$f":"(IF(RESET!L15=TRUE,Regular!B37,\"\"))","v":""},{"$f":"(IF(RESET!L15=TRUE,Regular!B38,\"\"))","v":""},null,null,24.000299999999999,30,30]
[null,{"$f":"(IF(RESET!M15=TRUE,Extra!D41,24))","v":24},{"$f":"(IF(RESET!M15=TRUE,\"30 min for 25%\",\"\"))","v":""},{"$f":"(IF(RESET!M15=TRUE,Regular!B37,\"\"))","v":""},{"$f":"(IF(RESET!M15=TRUE,Regular!B38,\"\"))","v":""},null,null,24.000309999999999,31,31]
[null,{"$f":"(IF(RESET!M15=TRUE,Extra!D42,24))","v":24},{"$f":"(IF(RESET!M15=TRUE,\"5 min for 25%\",\"\"))","v":""},{"$f":"(IF(RESET!M15=TRUE,Regular!B37,\"\"))","v":""},{"$f":"(IF(RESET!M15=TRUE,Regular!B38,\"\"))","v":""},null,null,24.000319999999999,32,32]
[null,{"$f":"(IF(RESET!M15=TRUE,Extra!D43,24))","v":24},{"$f":"(IF(RESET!M15=TRUE,\"FINISH for 25%\",\"\"))","v":""},{"$f":"(IF(RESET!M15=TRUE,Regular!B37,\"\"))","v":""},{"$f":"(IF(RESET!M15=TRUE,Regular!B38,\"\"))","v":""},null,null,24.000330000000002,33,33]
[null,{"$f":"(IF(RESET!N15=TRUE,Extra!E41,24))","v":24},{"$f":"(IF(RESET!N15=TRUE,\"30 min for 50%\",\"\"))","v":""},{"$f":"(IF(RESET!N15=TRUE,Regular!B37,\"\"))","v":""},{"$f":"(IF(RESET!N15=TRUE,Regular!B38,\"\"))","v":""},null,null,24.000340000000001,34,34]
[null,{"$f":"(IF(RESET!N15=TRUE,Extra!E42,24))","v":24},{"$f":"(IF(RESET!N15=TRUE,\"5 min for 50%\",\"\"))","v":""},{"$f":"(IF(RESET!N15=TRUE,Regular!B37,\"\"))","v":""},{"$f":"(IF(RESET!N15=TRUE,Regular!B38,\"\"))","v":""},null,null,24.000350000000001,35,35]
[null,{"$f":"(IF(RESET!N15=TRUE,Extra!E43,24))","v":24},{"$f":"(IF(RESET!N15=TRUE,\"FINISH for 50%\",\"\"))","v":""},{"$f":"(IF(RESET!N15=TRUE,Regular!B37,\"\"))","v":""},{"$f":"(IF(RESET!N15=TRUE,Regular!B38,\"\"))","v":""},null,null,24.000360000000001,36,36]
[]
[]
[]
[]
[]
[null,{"$f":"Regular!C9","v":"00:00:00"},"START","All"]
[null,{"$f":"IF($I$3=$J3,B$3,IF($I$4=$J3,B$4,IF($I$5=$J3,B$5,IF($I$6=$J3,B$6,IF($I$7=$J3,B$7,IF($I$8=$J3,B$8,IF($I$9=$J3,B$9,IF($I$10=$J3,B$10,IF($I$11=$J3,B$11,IF($I$12=$J3,B$12,IF($I$13=$J3,B$13,IF($I$14=$J3,B$14,IF($I$15=$J3,B$15,IF($I$16=$J3,B$16,IF($I$17=$J3,B$17,IF($I$18=$J3,B$18,IF($I$19=$J3,B$19,IF($I$20=$J3,B$20,IF($I$21=$J3,B$21,IF($I$22=$J3,B$22,IF($I$23=$J3,B$23,IF($I$24=$J3,B$24,IF($I$25=$J3,B$25,IF($I$26=$J3,B$26,IF($I$27=$J3,B$27,IF($I$28=$J3,B$28,IF($I$29=$J3,B$29,IF($I$30=$J3,B$30,IF($I$31=$J3,B$31,IF($I$32=$J3,B$32,IF($I$33=$J3,B$33,IF($I$34=$J3,B$34,IF($I$35=$J3,B$35,IF($I$36=$J3,B$36,IF($I$37=$J3,B$37,B$38)))))))))))))))))))))))))))))))))))","v":24},{"$f":"IF($I$3=$J3,C$3,IF($I$4=$J3,C$4,IF($I$5=$J3,C$5,IF($I$6=$J3,C$6,IF($I$7=$J3,C$7,IF($I$8=$J3,C$8,IF($I$9=$J3,C$9,IF($I$10=$J3,C$10,IF($I$11=$J3,C$11,IF($I$12=$J3,C$12,IF($I$13=$J3,C$13,IF($I$14=$J3,C$14,IF($I$15=$J3,C$15,IF($I$16=$J3,C$16,IF($I$17=$J3,C$17,IF($I$18=$J3,C$18,IF($I$19=$J3,C$19,IF($I$20=$J3,C$20,IF($I$21=$J3,C$21,IF($I$22=$J3,C$22,IF($I$23=$J3,C$23,IF($I$24=$J3,C$24,IF($I$25=$J3,C$25,IF($I$26=$J3,C$26,IF($I$27=$J3,C$27,IF($I$28=$J3,C$28,IF($I$29=$J3,C$29,IF($I$30=$J3,C$30,IF($I$31=$J3,C$31,IF($I$32=$J3,C$32,IF($I$33=$J3,C$33,IF($I$34=$J3,C$34,IF($I$35=$J3,C$35,IF($I$36=$J3,C$36,IF($I$37=$J3,C$37,C$38)))))))))))))))))))))))))))))))))))","v":""},{"$f":"IF($I$3=$J3,D$3,IF($I$4=$J3,D$4,IF($I$5=$J3,D$5,IF($I$6=$J3,D$6,IF($I$7=$J3,D$7,IF($I$8=$J3,D$8,IF($I$9=$J3,D$9,IF($I$10=$J3,D$10,IF($I$11=$J3,D$11,IF($I$12=$J3,D$12,IF($I$13=$J3,D$13,IF($I$14=$J3,D$14,IF($I$15=$J3,D$15,IF($I$16=$J3,D$16,IF($I$17=$J3,D$17,IF($I$18=$J3,D$18,IF($I$19=$J3,D$19,IF($I$20=$J3,D$20,IF($I$21=$J3,D$21,IF($I$22=$J3,D$22,IF($I$23=$J3,D$23,IF($I$24=$J3,D$24,IF($I$25=$J3,D$25,IF($I$26=$J3,D$26,IF($I$27=$J3,D$27,IF($I$28=$J3,D$28,IF($I$29=$J3,D$29,IF($I$30=$J3,D$30,IF($I$31=$J3,D$31,IF($I$32=$J3,D$32,IF($I$33=$J3,D$33,IF($I$34=$J3,D$34,IF($I$35=$J3,D$35,IF($I$36=$J3,D$36,IF($I$37=$J3,D$37,D$38)))))))))))))))))))))))))))))))))))","v":""},{"$f":"IF($I$3=$J3,E$3,IF($I$4=$J3,E$4,IF($I$5=$J3,E$5,IF($I$6=$J3,E$6,IF($I$7=$J3,E$7,IF($I$8=$J3,E$8,IF($I$9=$J3,E$9,IF($I$10=$J3,E$10,IF($I$11=$J3,E$11,IF($I$12=$J3,E$12,IF($I$13=$J3,E$13,IF($I$14=$J3,E$14,IF($I$15=$J3,E$15,IF($I$16=$J3,E$16,IF($I$17=$J3,E$17,IF($I$18=$J3,E$18,IF($I$19=$J3,E$19,IF($I$20=$J3,E$20,IF($I$21=$J3,E$21,IF($I$22=$J3,E$22,IF($I$23=$J3,E$23,IF($I$24=$J3,E$24,IF($I$25=$J3,E$25,IF($I$26=$J3,E$26,IF($I$27=$J3,E$27,IF($I$28=$J3,E$28,IF($I$29=$J3,E$29,IF($I$30=$J3,E$30,IF($I$31=$J3,E$31,IF($I$32=$J3,E$32,IF($I$33=$J3,E$33,IF($I$34=$J3,E$34,IF($I$35=$J3,E$35,IF($I$36=$J3,E$36,IF($I$37=$J3,E$37,E$38)))))))))))))))))))))))))))))))))))","v":""}]
[null,{"$f":"IF($I$3=$J4,B$3,IF($I$4=$J4,B$4,IF($I$5=$J4,B$5,IF($I$6=$J4,B$6,IF($I$7=$J4,B$7,IF($I$8=$J4,B$8,IF($I$9=$J4,B$9,IF($I$10=$J4,B$10,IF($I$11=$J4,B$11,IF($I$12=$J4,B$12,IF($I$13=$J4,B$13,IF($I$14=$J4,B$14,IF($I$15=$J4,B$15,IF($I$16=$J4,B$16,IF($I$17=$J4,B$17,IF($I$18=$J4,B$18,IF($I$19=$J4,B$19,IF($I$20=$J4,B$20,IF($I$21=$J4,B$21,IF($I$22=$J4,B$22,IF($I$23=$J4,B$23,IF($I$24=$J4,B$24,IF($I$25=$J4,B$25,IF($I$26=$J4,B$26,IF($I$27=$J4,B$27,IF($I$28=$J4,B$28,IF($I$29=$J4,B$29,IF($I$30=$J4,B$30,IF($I$31=$J4,B$31,IF($I$32=$J4,B$32,IF($I$33=$J4,B$33,IF($I$34=$J4,B$34,IF($I$35=$J4,B$35,IF($I$36=$J4,B$36,IF($I$37=$J4,B$37,B$38)))))))))))))))))))))))))))))))))))","v":24},"","",""]
[null,24,"","",""]
[null,24,"","",""]
[null,24,"","",""]
[null,24,"","",""]
[null,24,"","",""]
[null,24,"","",""]
[null,24,"","",""]
[null,24,"","",""]
[null,24,"","",""]
[null,24,"","",""]
[null,24,"","",""]
[null,24,"","",""]
[null,24,"","",""]
[null,24,"","",""]
[null,24,"","",""]
[null,24,"","",""]
[null,24,"","",""]
[null,24,"","",""]
[null,24,"","",""]
[null,24,"","",""]
[null,24,"","",""]
[null,24,"","",""]
[null,24,"","",""]
[null,24,"","",""]
[null,24,"","",""]
[null,24,"","",""]
[null,24,"","",""]
[null,24,"","",""]
[null,24,"","",""]
[null,24,"","",""]
[null,24,"","",""]
[null,24,"","",""]
[null,24,"","",""]
[null,24,"","",""]